BEGIN:VCALENDAR
VERSION:2.0
PRODID:-//ABC 17 NEWS Events - ECPv6.15.20//NONSGML v1.0//EN
CALSCALE:GREGORIAN
METHOD:PUBLISH
X-ORIGINAL-URL:https://events.abc17news.com
X-WR-CALDESC:Events for ABC 17 NEWS Events
REFRESH-INTERVAL;VALUE=DURATION:PT1H
X-Robots-Tag:noindex
X-PUBLISHED-TTL:PT1H
BEGIN:VTIMEZONE
TZID:America/Los_Angeles
BEGIN:DAYLIGHT
TZOFFSETFROM:-0800
TZOFFSETTO:-0700
TZNAME:PDT
DTSTART:20220313T100000
END:DAYLIGHT
BEGIN:STANDARD
TZOFFSETFROM:-0700
TZOFFSETTO:-0800
TZNAME:PST
DTSTART:20221106T090000
END:STANDARD
BEGIN:DAYLIGHT
TZOFFSETFROM:-0800
TZOFFSETTO:-0700
TZNAME:PDT
DTSTART:20230312T100000
END:DAYLIGHT
BEGIN:STANDARD
TZOFFSETFROM:-0700
TZOFFSETTO:-0800
TZNAME:PST
DTSTART:20231105T090000
END:STANDARD
BEGIN:DAYLIGHT
TZOFFSETFROM:-0800
TZOFFSETTO:-0700
TZNAME:PDT
DTSTART:20240310T100000
END:DAYLIGHT
BEGIN:STANDARD
TZOFFSETFROM:-0700
TZOFFSETTO:-0800
TZNAME:PST
DTSTART:20241103T090000
END:STANDARD
END:VTIMEZONE
BEGIN:VEVENT
DTSTART;TZID=America/Los_Angeles:20231120T170000
DTEND;TZID=America/Los_Angeles:20231231T210000
DTSTAMP:20260422T100703
CREATED:20231120T203259Z
LAST-MODIFIED:20231120T203259Z
UID:10004268-1700499600-1704056400@events.abc17news.com
SUMMARY:Enchanted Village of Lights in Laurie
DESCRIPTION:Enchanted Village of Lights in Laurie Missouri is one of the most amazing light display around the area. If you have not made it out to see the lights you are really missing out. This 27 acres of lights is a sight to see. With over 250 displays. \nLights open Friday\, November 17\, 2023 and runs until December 31\, 2023 \n5 pm to 9 pm Sunday thru Thursday \n5 to 10 Friday and Saturday\, Thanksgiving\, Christmas Eve\, and Christmas night.
URL:https://events.abc17news.com/event/enchanted-village-of-lights-in-laurie/
LOCATION:Laurie\, Laurie\, MO
CATEGORIES:Community
ATTACH;FMTTYPE=image/jpeg:https://events.abc17news.com/wp-content/uploads/2023/11/EnchantedLights_rmtu.jpg
END:VEVENT
END:VCALENDAR