BEGIN:VCALENDAR
VERSION:2.0
PRODID:-//ABC 17 NEWS Events - ECPv6.15.20//NONSGML v1.0//EN
CALSCALE:GREGORIAN
METHOD:PUBLISH
X-ORIGINAL-URL:https://events.abc17news.com
X-WR-CALDESC:Events for ABC 17 NEWS Events
REFRESH-INTERVAL;VALUE=DURATION:PT1H
X-Robots-Tag:noindex
X-PUBLISHED-TTL:PT1H
BEGIN:VTIMEZONE
TZID:America/Los_Angeles
BEGIN:DAYLIGHT
TZOFFSETFROM:-0800
TZOFFSETTO:-0700
TZNAME:PDT
DTSTART:20220313T100000
END:DAYLIGHT
BEGIN:STANDARD
TZOFFSETFROM:-0700
TZOFFSETTO:-0800
TZNAME:PST
DTSTART:20221106T090000
END:STANDARD
BEGIN:DAYLIGHT
TZOFFSETFROM:-0800
TZOFFSETTO:-0700
TZNAME:PDT
DTSTART:20230312T100000
END:DAYLIGHT
BEGIN:STANDARD
TZOFFSETFROM:-0700
TZOFFSETTO:-0800
TZNAME:PST
DTSTART:20231105T090000
END:STANDARD
BEGIN:DAYLIGHT
TZOFFSETFROM:-0800
TZOFFSETTO:-0700
TZNAME:PDT
DTSTART:20240310T100000
END:DAYLIGHT
BEGIN:STANDARD
TZOFFSETFROM:-0700
TZOFFSETTO:-0800
TZNAME:PST
DTSTART:20241103T090000
END:STANDARD
END:VTIMEZONE
BEGIN:VEVENT
DTSTART;TZID=America/Los_Angeles:20230325T070000
DTEND;TZID=America/Los_Angeles:20230325T120000
DTSTAMP:20260425T044551
CREATED:20230302T144433Z
LAST-MODIFIED:20230302T144433Z
UID:10001191-1679727600-1679745600@events.abc17news.com
SUMMARY:71st Annual Kiwanis Pancake Day
DESCRIPTION:Columbia\, Missouri Kiwanis Clubs \nGeneral Admission: $10.00 / Children 5 and Under: Free \nIncludes Pancakes\, Sausage\, and Beverage
URL:https://events.abc17news.com/event/71st-annual-kiwanis-pancake-day/
LOCATION:Dulany Hall\, Columbia College Campus\, Columbia\, MO\, 65216
END:VEVENT
END:VCALENDAR