BEGIN:VCALENDAR
VERSION:2.0
PRODID:-//ABC 17 NEWS Events - ECPv6.15.20//NONSGML v1.0//EN
CALSCALE:GREGORIAN
METHOD:PUBLISH
X-ORIGINAL-URL:https://events.abc17news.com
X-WR-CALDESC:Events for ABC 17 NEWS Events
REFRESH-INTERVAL;VALUE=DURATION:PT1H
X-Robots-Tag:noindex
X-PUBLISHED-TTL:PT1H
BEGIN:VTIMEZONE
TZID:America/Los_Angeles
BEGIN:DAYLIGHT
TZOFFSETFROM:-0800
TZOFFSETTO:-0700
TZNAME:PDT
DTSTART:20250309T100000
END:DAYLIGHT
BEGIN:STANDARD
TZOFFSETFROM:-0700
TZOFFSETTO:-0800
TZNAME:PST
DTSTART:20251102T090000
END:STANDARD
BEGIN:DAYLIGHT
TZOFFSETFROM:-0800
TZOFFSETTO:-0700
TZNAME:PDT
DTSTART:20260308T100000
END:DAYLIGHT
BEGIN:STANDARD
TZOFFSETFROM:-0700
TZOFFSETTO:-0800
TZNAME:PST
DTSTART:20261101T090000
END:STANDARD
BEGIN:DAYLIGHT
TZOFFSETFROM:-0800
TZOFFSETTO:-0700
TZNAME:PDT
DTSTART:20270314T100000
END:DAYLIGHT
BEGIN:STANDARD
TZOFFSETFROM:-0700
TZOFFSETTO:-0800
TZNAME:PST
DTSTART:20271107T090000
END:STANDARD
BEGIN:DAYLIGHT
TZOFFSETFROM:-0800
TZOFFSETTO:-0700
TZNAME:PDT
DTSTART:20280312T100000
END:DAYLIGHT
BEGIN:STANDARD
TZOFFSETFROM:-0700
TZOFFSETTO:-0800
TZNAME:PST
DTSTART:20281105T090000
END:STANDARD
END:VTIMEZONE
BEGIN:VEVENT
DTSTART;TZID=America/Los_Angeles:20261112T120000
DTEND;TZID=America/Los_Angeles:20270107T220000
DTSTAMP:20260419T121818
CREATED:20251007T180614Z
LAST-MODIFIED:20251007T180614Z
UID:10014504-1794484800-1799359200@events.abc17news.com
SUMMARY:Integrative Behavioral Health Clinic
DESCRIPTION:Integrative Behavioral Health Clinic is free therapy services for the uninsured and underinsured members of our community. Every Thursday while MU is in session\, IBHC provides 1:1 counseling and couples therapy at MU Family Impact Center 105 E. Ash ST\, Second Floor\, Columbia MO 65203 from Noon to 9pm. For more information the Clinic Manager can be reached at ibhc@health.missouri.edu or call 573-882-9871.
URL:https://events.abc17news.com/event/integrative-behavioral-health-clinic/2026-11-12/
LOCATION:105 E Ash St. Columbia Mo\, 65203\, 105 E. Ash ST\, Second Floor\, Columbia\, MO\, 65203\, United States
CATEGORIES:Health and Wellness
ATTACH;FMTTYPE=image/jpeg:https://events.abc17news.com/wp-content/uploads/2025/10/IBHC-1.jpg
ORGANIZER;CN="MU Family Impact Center":MAILTO:mufamilyimpact@missouri.edu
END:VEVENT
BEGIN:VEVENT
DTSTART;TZID=America/Los_Angeles:20261119T120000
DTEND;TZID=America/Los_Angeles:20270114T220000
DTSTAMP:20260419T121818
CREATED:20251007T180614Z
LAST-MODIFIED:20251007T180614Z
UID:10014505-1795089600-1799964000@events.abc17news.com
SUMMARY:Integrative Behavioral Health Clinic
DESCRIPTION:Integrative Behavioral Health Clinic is free therapy services for the uninsured and underinsured members of our community. Every Thursday while MU is in session\, IBHC provides 1:1 counseling and couples therapy at MU Family Impact Center 105 E. Ash ST\, Second Floor\, Columbia MO 65203 from Noon to 9pm. For more information the Clinic Manager can be reached at ibhc@health.missouri.edu or call 573-882-9871.
URL:https://events.abc17news.com/event/integrative-behavioral-health-clinic/2026-11-19/
LOCATION:105 E Ash St. Columbia Mo\, 65203\, 105 E. Ash ST\, Second Floor\, Columbia\, MO\, 65203\, United States
CATEGORIES:Health and Wellness
ATTACH;FMTTYPE=image/jpeg:https://events.abc17news.com/wp-content/uploads/2025/10/IBHC-1.jpg
ORGANIZER;CN="MU Family Impact Center":MAILTO:mufamilyimpact@missouri.edu
END:VEVENT
BEGIN:VEVENT
DTSTART;TZID=America/Los_Angeles:20261126T120000
DTEND;TZID=America/Los_Angeles:20270121T220000
DTSTAMP:20260419T121818
CREATED:20251007T180614Z
LAST-MODIFIED:20251007T180614Z
UID:10014506-1795694400-1800568800@events.abc17news.com
SUMMARY:Integrative Behavioral Health Clinic
DESCRIPTION:Integrative Behavioral Health Clinic is free therapy services for the uninsured and underinsured members of our community. Every Thursday while MU is in session\, IBHC provides 1:1 counseling and couples therapy at MU Family Impact Center 105 E. Ash ST\, Second Floor\, Columbia MO 65203 from Noon to 9pm. For more information the Clinic Manager can be reached at ibhc@health.missouri.edu or call 573-882-9871.
URL:https://events.abc17news.com/event/integrative-behavioral-health-clinic/2026-11-26/
LOCATION:105 E Ash St. Columbia Mo\, 65203\, 105 E. Ash ST\, Second Floor\, Columbia\, MO\, 65203\, United States
CATEGORIES:Health and Wellness
ATTACH;FMTTYPE=image/jpeg:https://events.abc17news.com/wp-content/uploads/2025/10/IBHC-1.jpg
ORGANIZER;CN="MU Family Impact Center":MAILTO:mufamilyimpact@missouri.edu
END:VEVENT
BEGIN:VEVENT
DTSTART;TZID=America/Los_Angeles:20261203T120000
DTEND;TZID=America/Los_Angeles:20270128T220000
DTSTAMP:20260419T121818
CREATED:20251007T180614Z
LAST-MODIFIED:20251007T180614Z
UID:10014507-1796299200-1801173600@events.abc17news.com
SUMMARY:Integrative Behavioral Health Clinic
DESCRIPTION:Integrative Behavioral Health Clinic is free therapy services for the uninsured and underinsured members of our community. Every Thursday while MU is in session\, IBHC provides 1:1 counseling and couples therapy at MU Family Impact Center 105 E. Ash ST\, Second Floor\, Columbia MO 65203 from Noon to 9pm. For more information the Clinic Manager can be reached at ibhc@health.missouri.edu or call 573-882-9871.
URL:https://events.abc17news.com/event/integrative-behavioral-health-clinic/2026-12-03/
LOCATION:105 E Ash St. Columbia Mo\, 65203\, 105 E. Ash ST\, Second Floor\, Columbia\, MO\, 65203\, United States
CATEGORIES:Health and Wellness
ATTACH;FMTTYPE=image/jpeg:https://events.abc17news.com/wp-content/uploads/2025/10/IBHC-1.jpg
ORGANIZER;CN="MU Family Impact Center":MAILTO:mufamilyimpact@missouri.edu
END:VEVENT
BEGIN:VEVENT
DTSTART;TZID=America/Los_Angeles:20261210T120000
DTEND;TZID=America/Los_Angeles:20270204T220000
DTSTAMP:20260419T121818
CREATED:20251007T180614Z
LAST-MODIFIED:20251007T180614Z
UID:10014508-1796904000-1801778400@events.abc17news.com
SUMMARY:Integrative Behavioral Health Clinic
DESCRIPTION:Integrative Behavioral Health Clinic is free therapy services for the uninsured and underinsured members of our community. Every Thursday while MU is in session\, IBHC provides 1:1 counseling and couples therapy at MU Family Impact Center 105 E. Ash ST\, Second Floor\, Columbia MO 65203 from Noon to 9pm. For more information the Clinic Manager can be reached at ibhc@health.missouri.edu or call 573-882-9871.
URL:https://events.abc17news.com/event/integrative-behavioral-health-clinic/2026-12-10/
LOCATION:105 E Ash St. Columbia Mo\, 65203\, 105 E. Ash ST\, Second Floor\, Columbia\, MO\, 65203\, United States
CATEGORIES:Health and Wellness
ATTACH;FMTTYPE=image/jpeg:https://events.abc17news.com/wp-content/uploads/2025/10/IBHC-1.jpg
ORGANIZER;CN="MU Family Impact Center":MAILTO:mufamilyimpact@missouri.edu
END:VEVENT
BEGIN:VEVENT
DTSTART;TZID=America/Los_Angeles:20270101T180000
DTEND;TZID=America/Los_Angeles:20270101T203000
DTSTAMP:20260419T121818
CREATED:20231023T161000Z
LAST-MODIFIED:20231023T161000Z
UID:10003667-1798826400-1798835400@events.abc17news.com
SUMMARY:12 WEEKS TO FREEDOM Addiction Recovery Mission
DESCRIPTION:12 WEEKS TO FREEDOM is a faith based addiction recovery mission located in the lower level of Friendship Baptist Church at 4500 E Liberty in Mexico Missouri. We meet every Friday night at six o’clock in the evening\, and provide Bible based tools to overcome addiction to any variety of ills which afflict members of the community in a fallen world. A meal is provided at the end of the session\, and transportation is available by calling 573-581-4038 and leaving a message.
URL:https://events.abc17news.com/event/12-weeks-to-freedom-addiction-recovery-mission/2027-01-01/
LOCATION:Friendship Baptist Church\, 4500 E Liberty\, Mexico Missouri\, 4500 E Liberty\, Mexico\, 65265
CATEGORIES:Community
END:VEVENT
BEGIN:VEVENT
DTSTART;TZID=America/Los_Angeles:20270103T100000
DTEND;TZID=America/Los_Angeles:20270103T120000
DTSTAMP:20260419T121818
CREATED:20241107T211942Z
LAST-MODIFIED:20241107T211942Z
UID:10007938-1798970400-1798977600@events.abc17news.com
SUMMARY:Columbia Atheists Sunday Coffee
DESCRIPTION:Join us for coffee and baked goods with good stimulating conversations with like minded people! \nTable in back on right side.
URL:https://events.abc17news.com/event/columbia-atheists-sunday-coffee-2/2027-01-03/
CATEGORIES:Community,Education,Food and Drink
ATTACH;FMTTYPE=image/jpeg:https://events.abc17news.com/wp-content/uploads/2024/11/Columbia-Atheists.jpg
ORGANIZER;CN="Columbia Atheists":MAILTO:sokelley53@gmail.com
END:VEVENT
BEGIN:VEVENT
DTSTART;TZID=America/Los_Angeles:20270106T190000
DTEND;TZID=America/Los_Angeles:20270106T210000
DTSTAMP:20260419T121818
CREATED:20241107T211943Z
LAST-MODIFIED:20241107T211943Z
UID:10008196-1799262000-1799269200@events.abc17news.com
SUMMARY:Columbia Atheists Wednesday get togethers!
DESCRIPTION:Join us for stimulating conversation\, sharing ideas\, ordering drinks/food (on your own dime)
URL:https://events.abc17news.com/event/columbia-atheists-wednesday-get-togethers/2027-01-06/
LOCATION:Broadway Brewery\, 816 E Broadway\, Columbia\, MO\, 65201\, United States
CATEGORIES:Community,Education,Food and Drink,Other
ATTACH;FMTTYPE=image/jpeg:https://events.abc17news.com/wp-content/uploads/2024/11/Columbia-Atheists-1.jpg
ORGANIZER;CN="Columbia Atheists":MAILTO:sokelley53@gmail.com
END:VEVENT
BEGIN:VEVENT
DTSTART;TZID=America/Los_Angeles:20270108T180000
DTEND;TZID=America/Los_Angeles:20270108T203000
DTSTAMP:20260419T121818
CREATED:20231023T161000Z
LAST-MODIFIED:20231023T161000Z
UID:10003668-1799431200-1799440200@events.abc17news.com
SUMMARY:12 WEEKS TO FREEDOM Addiction Recovery Mission
DESCRIPTION:12 WEEKS TO FREEDOM is a faith based addiction recovery mission located in the lower level of Friendship Baptist Church at 4500 E Liberty in Mexico Missouri. We meet every Friday night at six o’clock in the evening\, and provide Bible based tools to overcome addiction to any variety of ills which afflict members of the community in a fallen world. A meal is provided at the end of the session\, and transportation is available by calling 573-581-4038 and leaving a message.
URL:https://events.abc17news.com/event/12-weeks-to-freedom-addiction-recovery-mission/2027-01-08/
LOCATION:Friendship Baptist Church\, 4500 E Liberty\, Mexico Missouri\, 4500 E Liberty\, Mexico\, 65265
CATEGORIES:Community
END:VEVENT
BEGIN:VEVENT
DTSTART;TZID=America/Los_Angeles:20270110T100000
DTEND;TZID=America/Los_Angeles:20270110T120000
DTSTAMP:20260419T121818
CREATED:20241107T211942Z
LAST-MODIFIED:20241107T211942Z
UID:10007939-1799575200-1799582400@events.abc17news.com
SUMMARY:Columbia Atheists Sunday Coffee
DESCRIPTION:Join us for coffee and baked goods with good stimulating conversations with like minded people! \nTable in back on right side.
URL:https://events.abc17news.com/event/columbia-atheists-sunday-coffee-2/2027-01-10/
CATEGORIES:Community,Education,Food and Drink
ATTACH;FMTTYPE=image/jpeg:https://events.abc17news.com/wp-content/uploads/2024/11/Columbia-Atheists.jpg
ORGANIZER;CN="Columbia Atheists":MAILTO:sokelley53@gmail.com
END:VEVENT
BEGIN:VEVENT
DTSTART;TZID=America/Los_Angeles:20270113T190000
DTEND;TZID=America/Los_Angeles:20270113T210000
DTSTAMP:20260419T121818
CREATED:20241107T211943Z
LAST-MODIFIED:20241107T211943Z
UID:10008197-1799866800-1799874000@events.abc17news.com
SUMMARY:Columbia Atheists Wednesday get togethers!
DESCRIPTION:Join us for stimulating conversation\, sharing ideas\, ordering drinks/food (on your own dime)
URL:https://events.abc17news.com/event/columbia-atheists-wednesday-get-togethers/2027-01-13/
LOCATION:Broadway Brewery\, 816 E Broadway\, Columbia\, MO\, 65201\, United States
CATEGORIES:Community,Education,Food and Drink,Other
ATTACH;FMTTYPE=image/jpeg:https://events.abc17news.com/wp-content/uploads/2024/11/Columbia-Atheists-1.jpg
ORGANIZER;CN="Columbia Atheists":MAILTO:sokelley53@gmail.com
END:VEVENT
BEGIN:VEVENT
DTSTART;TZID=America/Los_Angeles:20270115T180000
DTEND;TZID=America/Los_Angeles:20270115T203000
DTSTAMP:20260419T121818
CREATED:20231023T161000Z
LAST-MODIFIED:20231023T161000Z
UID:10003669-1800036000-1800045000@events.abc17news.com
SUMMARY:12 WEEKS TO FREEDOM Addiction Recovery Mission
DESCRIPTION:12 WEEKS TO FREEDOM is a faith based addiction recovery mission located in the lower level of Friendship Baptist Church at 4500 E Liberty in Mexico Missouri. We meet every Friday night at six o’clock in the evening\, and provide Bible based tools to overcome addiction to any variety of ills which afflict members of the community in a fallen world. A meal is provided at the end of the session\, and transportation is available by calling 573-581-4038 and leaving a message.
URL:https://events.abc17news.com/event/12-weeks-to-freedom-addiction-recovery-mission/2027-01-15/
LOCATION:Friendship Baptist Church\, 4500 E Liberty\, Mexico Missouri\, 4500 E Liberty\, Mexico\, 65265
CATEGORIES:Community
END:VEVENT
BEGIN:VEVENT
DTSTART;TZID=America/Los_Angeles:20270116T163000
DTEND;TZID=America/Los_Angeles:20270116T183000
DTSTAMP:20260419T121818
CREATED:20240717T133557Z
LAST-MODIFIED:20240717T133557Z
UID:10006119-1800117000-1800124200@events.abc17news.com
SUMMARY:Christmas In July Fundraiser
DESCRIPTION:Callaway Senior Center Will Host Dinner to help raise money for our food program We will have a big Christmas meal. Our Menu will be Turkey or Ham mashed potato gravy stuffing. home maid noodles green beans\, Cole Slaw assorted pies and cakes coffee tea lemon aide. $12 adults $6 Children 4:30 -6:30 pm Take out available. Hambo Latham will be providing music while you eat. Come see what we have to offer.  Our menu changes monthly you can check our face book page for our information
URL:https://events.abc17news.com/event/christmas-in-july-fundraiser/2027-01-16/
CATEGORIES:Community
END:VEVENT
BEGIN:VEVENT
DTSTART;TZID=America/Los_Angeles:20270117T100000
DTEND;TZID=America/Los_Angeles:20270117T120000
DTSTAMP:20260419T121818
CREATED:20241107T211942Z
LAST-MODIFIED:20241107T211942Z
UID:10007940-1800180000-1800187200@events.abc17news.com
SUMMARY:Columbia Atheists Sunday Coffee
DESCRIPTION:Join us for coffee and baked goods with good stimulating conversations with like minded people! \nTable in back on right side.
URL:https://events.abc17news.com/event/columbia-atheists-sunday-coffee-2/2027-01-17/
CATEGORIES:Community,Education,Food and Drink
ATTACH;FMTTYPE=image/jpeg:https://events.abc17news.com/wp-content/uploads/2024/11/Columbia-Atheists.jpg
ORGANIZER;CN="Columbia Atheists":MAILTO:sokelley53@gmail.com
END:VEVENT
BEGIN:VEVENT
DTSTART;TZID=America/Los_Angeles:20270120T190000
DTEND;TZID=America/Los_Angeles:20270120T210000
DTSTAMP:20260419T121818
CREATED:20241107T211943Z
LAST-MODIFIED:20241107T211943Z
UID:10008198-1800471600-1800478800@events.abc17news.com
SUMMARY:Columbia Atheists Wednesday get togethers!
DESCRIPTION:Join us for stimulating conversation\, sharing ideas\, ordering drinks/food (on your own dime)
URL:https://events.abc17news.com/event/columbia-atheists-wednesday-get-togethers/2027-01-20/
LOCATION:Broadway Brewery\, 816 E Broadway\, Columbia\, MO\, 65201\, United States
CATEGORIES:Community,Education,Food and Drink,Other
ATTACH;FMTTYPE=image/jpeg:https://events.abc17news.com/wp-content/uploads/2024/11/Columbia-Atheists-1.jpg
ORGANIZER;CN="Columbia Atheists":MAILTO:sokelley53@gmail.com
END:VEVENT
BEGIN:VEVENT
DTSTART;TZID=America/Los_Angeles:20270122T010000
DTEND;TZID=America/Los_Angeles:20270122T143000
DTSTAMP:20260419T121818
CREATED:20240719T142718Z
LAST-MODIFIED:20240719T142718Z
UID:10006186-1800579600-1800628200@events.abc17news.com
SUMMARY:Cancer Support Group at JCMG
DESCRIPTION:Join us for support and education at JCMG’s Cancer Support Group. Hosted by the JCMG Oncology Team\, this support group will be held on the last Friday of each month.\nIn July\, Dr. Krishna Mettu of JCMG’s Sleep Clinic will be discussing sleep disorders that affect cancer patients.\nTopics and speakers will change monthly.\n1:00-2:30 pm in the JCMG Board Room (please meet in the lobby of the JCMG Medical Building at 1pm)\nIf you have any questions\, please call 573-556-7718.
URL:https://events.abc17news.com/event/cancer-support-group-at-jcmg-2/2027-01-22/
LOCATION:Jefferson City Medical Group 1241 W Stadium Jefferson City Mo\, 1241 W Stadium Blvd\, Jefferson City\, MO\, 65109\, United States
CATEGORIES:Health and Wellness
ATTACH;FMTTYPE=image/png:https://events.abc17news.com/wp-content/uploads/2024/07/Cancer-Support-Square.png
END:VEVENT
BEGIN:VEVENT
DTSTART;TZID=America/Los_Angeles:20270122T180000
DTEND;TZID=America/Los_Angeles:20270122T203000
DTSTAMP:20260419T121818
CREATED:20231023T161000Z
LAST-MODIFIED:20231023T161000Z
UID:10003670-1800640800-1800649800@events.abc17news.com
SUMMARY:12 WEEKS TO FREEDOM Addiction Recovery Mission
DESCRIPTION:12 WEEKS TO FREEDOM is a faith based addiction recovery mission located in the lower level of Friendship Baptist Church at 4500 E Liberty in Mexico Missouri. We meet every Friday night at six o’clock in the evening\, and provide Bible based tools to overcome addiction to any variety of ills which afflict members of the community in a fallen world. A meal is provided at the end of the session\, and transportation is available by calling 573-581-4038 and leaving a message.
URL:https://events.abc17news.com/event/12-weeks-to-freedom-addiction-recovery-mission/2027-01-22/
LOCATION:Friendship Baptist Church\, 4500 E Liberty\, Mexico Missouri\, 4500 E Liberty\, Mexico\, 65265
CATEGORIES:Community
END:VEVENT
BEGIN:VEVENT
DTSTART;TZID=America/Los_Angeles:20270124T100000
DTEND;TZID=America/Los_Angeles:20270124T120000
DTSTAMP:20260419T121818
CREATED:20241107T211942Z
LAST-MODIFIED:20241107T211942Z
UID:10007941-1800784800-1800792000@events.abc17news.com
SUMMARY:Columbia Atheists Sunday Coffee
DESCRIPTION:Join us for coffee and baked goods with good stimulating conversations with like minded people! \nTable in back on right side.
URL:https://events.abc17news.com/event/columbia-atheists-sunday-coffee-2/2027-01-24/
CATEGORIES:Community,Education,Food and Drink
ATTACH;FMTTYPE=image/jpeg:https://events.abc17news.com/wp-content/uploads/2024/11/Columbia-Atheists.jpg
ORGANIZER;CN="Columbia Atheists":MAILTO:sokelley53@gmail.com
END:VEVENT
BEGIN:VEVENT
DTSTART;TZID=America/Los_Angeles:20270127T190000
DTEND;TZID=America/Los_Angeles:20270127T210000
DTSTAMP:20260419T121818
CREATED:20241107T211943Z
LAST-MODIFIED:20241107T211943Z
UID:10008199-1801076400-1801083600@events.abc17news.com
SUMMARY:Columbia Atheists Wednesday get togethers!
DESCRIPTION:Join us for stimulating conversation\, sharing ideas\, ordering drinks/food (on your own dime)
URL:https://events.abc17news.com/event/columbia-atheists-wednesday-get-togethers/2027-01-27/
LOCATION:Broadway Brewery\, 816 E Broadway\, Columbia\, MO\, 65201\, United States
CATEGORIES:Community,Education,Food and Drink,Other
ATTACH;FMTTYPE=image/jpeg:https://events.abc17news.com/wp-content/uploads/2024/11/Columbia-Atheists-1.jpg
ORGANIZER;CN="Columbia Atheists":MAILTO:sokelley53@gmail.com
END:VEVENT
BEGIN:VEVENT
DTSTART;TZID=America/Los_Angeles:20270129T180000
DTEND;TZID=America/Los_Angeles:20270129T203000
DTSTAMP:20260419T121818
CREATED:20231023T161000Z
LAST-MODIFIED:20231023T161000Z
UID:10003671-1801245600-1801254600@events.abc17news.com
SUMMARY:12 WEEKS TO FREEDOM Addiction Recovery Mission
DESCRIPTION:12 WEEKS TO FREEDOM is a faith based addiction recovery mission located in the lower level of Friendship Baptist Church at 4500 E Liberty in Mexico Missouri. We meet every Friday night at six o’clock in the evening\, and provide Bible based tools to overcome addiction to any variety of ills which afflict members of the community in a fallen world. A meal is provided at the end of the session\, and transportation is available by calling 573-581-4038 and leaving a message.
URL:https://events.abc17news.com/event/12-weeks-to-freedom-addiction-recovery-mission/2027-01-29/
LOCATION:Friendship Baptist Church\, 4500 E Liberty\, Mexico Missouri\, 4500 E Liberty\, Mexico\, 65265
CATEGORIES:Community
END:VEVENT
BEGIN:VEVENT
DTSTART;TZID=America/Los_Angeles:20270131T100000
DTEND;TZID=America/Los_Angeles:20270131T120000
DTSTAMP:20260419T121818
CREATED:20241107T211942Z
LAST-MODIFIED:20241107T211942Z
UID:10007942-1801389600-1801396800@events.abc17news.com
SUMMARY:Columbia Atheists Sunday Coffee
DESCRIPTION:Join us for coffee and baked goods with good stimulating conversations with like minded people! \nTable in back on right side.
URL:https://events.abc17news.com/event/columbia-atheists-sunday-coffee-2/2027-01-31/
CATEGORIES:Community,Education,Food and Drink
ATTACH;FMTTYPE=image/jpeg:https://events.abc17news.com/wp-content/uploads/2024/11/Columbia-Atheists.jpg
ORGANIZER;CN="Columbia Atheists":MAILTO:sokelley53@gmail.com
END:VEVENT
END:VCALENDAR