BEGIN:VCALENDAR
VERSION:2.0
PRODID:-//ABC 17 NEWS Events - ECPv6.15.20//NONSGML v1.0//EN
CALSCALE:GREGORIAN
METHOD:PUBLISH
X-WR-CALNAME:ABC 17 NEWS Events
X-ORIGINAL-URL:https://events.abc17news.com
X-WR-CALDESC:Events for ABC 17 NEWS Events
REFRESH-INTERVAL;VALUE=DURATION:PT1H
X-Robots-Tag:noindex
X-PUBLISHED-TTL:PT1H
BEGIN:VTIMEZONE
TZID:America/Los_Angeles
BEGIN:DAYLIGHT
TZOFFSETFROM:-0800
TZOFFSETTO:-0700
TZNAME:PDT
DTSTART:20220313T100000
END:DAYLIGHT
BEGIN:STANDARD
TZOFFSETFROM:-0700
TZOFFSETTO:-0800
TZNAME:PST
DTSTART:20221106T090000
END:STANDARD
BEGIN:DAYLIGHT
TZOFFSETFROM:-0800
TZOFFSETTO:-0700
TZNAME:PDT
DTSTART:20230312T100000
END:DAYLIGHT
BEGIN:STANDARD
TZOFFSETFROM:-0700
TZOFFSETTO:-0800
TZNAME:PST
DTSTART:20231105T090000
END:STANDARD
BEGIN:DAYLIGHT
TZOFFSETFROM:-0800
TZOFFSETTO:-0700
TZNAME:PDT
DTSTART:20240310T100000
END:DAYLIGHT
BEGIN:STANDARD
TZOFFSETFROM:-0700
TZOFFSETTO:-0800
TZNAME:PST
DTSTART:20241103T090000
END:STANDARD
END:VTIMEZONE
BEGIN:VEVENT
DTSTART;TZID=America/Los_Angeles:20230826T090000
DTEND;TZID=America/Los_Angeles:20230826T113000
DTSTAMP:20260421T193748
CREATED:20230110T225157Z
LAST-MODIFIED:20230110T225157Z
UID:10001145-1693040400-1693049400@events.abc17news.com
SUMMARY:Landmarks St. Louis Walking Tours
DESCRIPTION:Landmarks Downtown St. Louis Walking Tours:  History\, Culture\, Architecture and Exercise: What could be better on a Saturday morning? \nExplore the fascinating history\, culture and architectural legacy of Downtown St. Louis from the City’s founding through its current development. We offer two tours on Saturdays\, 9:00 to 11:30 am\, April 1 through October 28. \nTours are limited to 15 people and cover about two miles at a leisurely pace. Tickets are $15 (children under 12 are free). Purchase tickets at LandmarksTours-STL.org \nEAST TOUR: Explore the architectural legacy of the heart of the city. From the bustling riverfront of the French American entrepreneurs to the skyscrapers of the 20th century\, you’ll find famous architectural and engineering marvels\, including these highlights: Old Courthouse | Old Cathedral | Eads Bridge | Gateway Arch | Old Post Office | Wainwright Building \nWEST TOUR: St. Louis’ grandest public buildings are a testament to the City’s ambitions during the late 19th and early 20th centuries. Explore their history\, architectural significance and how they changed the area from blighted to monumental\, including these highlights: Union Station | Stifel Theatre | Central Library | City Hall | Campbell House | Soldiers Memorial
URL:https://events.abc17news.com/event/landmarks-st-louis-walking-tours/2023-08-26/
LOCATION:Downtown St. Louis\, Downtown St. Louis\, St. Louis\, MO\, 63102\, United States
CATEGORIES:Other
ATTACH;FMTTYPE=image/jpeg:https://events.abc17news.com/wp-content/uploads/2023/01/Old-Post-Office.jpg
ORGANIZER;CN="Landmarks Association Walking Tours":MAILTO:marketing@landmarks-stl.org
END:VEVENT
END:VCALENDAR