BEGIN:VCALENDAR
VERSION:2.0
PRODID:-//ABC 17 NEWS Events - ECPv6.15.20//NONSGML v1.0//EN
CALSCALE:GREGORIAN
METHOD:PUBLISH
X-ORIGINAL-URL:https://events.abc17news.com
X-WR-CALDESC:Events for ABC 17 NEWS Events
REFRESH-INTERVAL;VALUE=DURATION:PT1H
X-Robots-Tag:noindex
X-PUBLISHED-TTL:PT1H
BEGIN:VTIMEZONE
TZID:America/Los_Angeles
BEGIN:DAYLIGHT
TZOFFSETFROM:-0800
TZOFFSETTO:-0700
TZNAME:PDT
DTSTART:20230312T100000
END:DAYLIGHT
BEGIN:STANDARD
TZOFFSETFROM:-0700
TZOFFSETTO:-0800
TZNAME:PST
DTSTART:20231105T090000
END:STANDARD
BEGIN:DAYLIGHT
TZOFFSETFROM:-0800
TZOFFSETTO:-0700
TZNAME:PDT
DTSTART:20240310T100000
END:DAYLIGHT
BEGIN:STANDARD
TZOFFSETFROM:-0700
TZOFFSETTO:-0800
TZNAME:PST
DTSTART:20241103T090000
END:STANDARD
BEGIN:DAYLIGHT
TZOFFSETFROM:-0800
TZOFFSETTO:-0700
TZNAME:PDT
DTSTART:20250309T100000
END:DAYLIGHT
BEGIN:STANDARD
TZOFFSETFROM:-0700
TZOFFSETTO:-0800
TZNAME:PST
DTSTART:20251102T090000
END:STANDARD
BEGIN:DAYLIGHT
TZOFFSETFROM:-0800
TZOFFSETTO:-0700
TZNAME:PDT
DTSTART:20260308T100000
END:DAYLIGHT
BEGIN:STANDARD
TZOFFSETFROM:-0700
TZOFFSETTO:-0800
TZNAME:PST
DTSTART:20261101T090000
END:STANDARD
END:VTIMEZONE
BEGIN:VEVENT
DTSTART;TZID=America/Los_Angeles:20241218T180000
DTEND;TZID=America/Los_Angeles:20241218T210000
DTSTAMP:20260422T134456
CREATED:20241217T202648Z
LAST-MODIFIED:20241217T202648Z
UID:10008736-1734544800-1734555600@events.abc17news.com
SUMMARY:Columbia Atheists Winter Fest!
DESCRIPTION:Come join us for great conversation\, discussions and good food! If interested there will be a “white elephant”* gift exchange with items $10 and under. \n*white elephant is a numerous\, impractical\, or unwanted gift that people exchange at parties for entertainment. The goal is to have fun\, not to receive a valuable item. White elephant gifts are often regifted or purchased at a thrift store!
URL:https://events.abc17news.com/event/columbia-atheists-winter-fest/
CATEGORIES:Community,Food and Drink
ATTACH;FMTTYPE=image/png:https://events.abc17news.com/wp-content/uploads/2024/12/IMG_0782.png
ORGANIZER;CN="Columbia Atheists":MAILTO:sokelley53@gmail.com
END:VEVENT
BEGIN:VEVENT
DTSTART;TZID=America/Los_Angeles:20241218T190000
DTEND;TZID=America/Los_Angeles:20241218T210000
DTSTAMP:20260422T134456
CREATED:20241107T211943Z
LAST-MODIFIED:20241107T211943Z
UID:10008091-1734548400-1734555600@events.abc17news.com
SUMMARY:Columbia Atheists Wednesday get togethers!
DESCRIPTION:Join us for stimulating conversation\, sharing ideas\, ordering drinks/food (on your own dime)
URL:https://events.abc17news.com/event/columbia-atheists-wednesday-get-togethers/2024-12-18/
LOCATION:Broadway Brewery\, 816 E Broadway\, Columbia\, MO\, 65201\, United States
CATEGORIES:Community,Education,Food and Drink,Other
ATTACH;FMTTYPE=image/jpeg:https://events.abc17news.com/wp-content/uploads/2024/11/Columbia-Atheists-1.jpg
ORGANIZER;CN="Columbia Atheists":MAILTO:sokelley53@gmail.com
END:VEVENT
BEGIN:VEVENT
DTSTART;TZID=America/Los_Angeles:20241218T190000
DTEND;TZID=America/Los_Angeles:20241218T210000
DTSTAMP:20260422T134456
CREATED:20241111T162604Z
LAST-MODIFIED:20241111T162604Z
UID:10008349-1734548400-1734555600@events.abc17news.com
SUMMARY:Columbia Atheists
DESCRIPTION:Meet up for an evening of good discussion with like minded liberal people.
URL:https://events.abc17news.com/event/columbia-atheists/2024-12-18/
LOCATION:Broadway Brewery\, 816 E Broadway\, Columbia\, MO\, 65201\, United States
CATEGORIES:Community,Education,Food and Drink,Other
ORGANIZER;CN="Columbia Atheists":MAILTO:sokelley53@gmail.com
END:VEVENT
BEGIN:VEVENT
DTSTART;TZID=America/Los_Angeles:20241221T090000
DTEND;TZID=America/Los_Angeles:20241221T120000
DTSTAMP:20260422T134456
CREATED:20241002T133546Z
LAST-MODIFIED:20241002T133546Z
UID:10006438-1734771600-1734782400@events.abc17news.com
SUMMARY:Columbia Farmers Market
DESCRIPTION:Experience the taste of mid-Missouri year-round at Columbia Farmers Market!!  Visit us during the Winter Season: every Saturday from 9 a.m.- noon (Nov.-March). You will find fresh produce\, meat\, farm fresh eggs\, cheeses\, honey\, artisan items & more. As a producer-only market\, everything sold at CFM is offered by the farmers and artisans who help sustain our region. We accept SNAP payments and matching benefits\, live music and children’s activities are provided at every market!  Closed the Saturday after Thanksgiving\, Christmas\, and New Year’s Day.   columbiafarmersmarket.org 573-823-6889
URL:https://events.abc17news.com/event/columbia-farmers-market-28/2024-12-21/
LOCATION:MU Health Care Pavilion at Columbia’s Agriculture Park\, 1769 W. Ash\, Columbia\, MO\, 65203
CATEGORIES:Community,Food and Drink,Health and Wellness,Shopping
ATTACH;FMTTYPE=image/jpeg:https://events.abc17news.com/wp-content/uploads/2024/09/CommunityCalendarSign-scaled.jpeg
ORGANIZER;CN="Columbia Farmers Market":MAILTO:manager@columbiafarmersmarket.org
END:VEVENT
BEGIN:VEVENT
DTSTART;TZID=America/Los_Angeles:20241222T100000
DTEND;TZID=America/Los_Angeles:20241222T120000
DTSTAMP:20260422T134456
CREATED:20241107T211942Z
LAST-MODIFIED:20241107T211942Z
UID:10007832-1734861600-1734868800@events.abc17news.com
SUMMARY:Columbia Atheists Sunday Coffee
DESCRIPTION:Join us for coffee and baked goods with good stimulating conversations with like minded people! \nTable in back on right side.
URL:https://events.abc17news.com/event/columbia-atheists-sunday-coffee-2/2024-12-22/
CATEGORIES:Community,Education,Food and Drink
ATTACH;FMTTYPE=image/jpeg:https://events.abc17news.com/wp-content/uploads/2024/11/Columbia-Atheists.jpg
ORGANIZER;CN="Columbia Atheists":MAILTO:sokelley53@gmail.com
END:VEVENT
BEGIN:VEVENT
DTSTART;TZID=America/Los_Angeles:20241229T100000
DTEND;TZID=America/Los_Angeles:20241229T120000
DTSTAMP:20260422T134456
CREATED:20241107T211942Z
LAST-MODIFIED:20241107T211942Z
UID:10007833-1735466400-1735473600@events.abc17news.com
SUMMARY:Columbia Atheists Sunday Coffee
DESCRIPTION:Join us for coffee and baked goods with good stimulating conversations with like minded people! \nTable in back on right side.
URL:https://events.abc17news.com/event/columbia-atheists-sunday-coffee-2/2024-12-29/
CATEGORIES:Community,Education,Food and Drink
ATTACH;FMTTYPE=image/jpeg:https://events.abc17news.com/wp-content/uploads/2024/11/Columbia-Atheists.jpg
ORGANIZER;CN="Columbia Atheists":MAILTO:sokelley53@gmail.com
END:VEVENT
BEGIN:VEVENT
DTSTART;TZID=America/Los_Angeles:20250103T180000
DTEND;TZID=America/Los_Angeles:20250103T200000
DTSTAMP:20260422T134456
CREATED:20250103T211827Z
LAST-MODIFIED:20250103T211827Z
UID:10008799-1735927200-1735934400@events.abc17news.com
SUMMARY:Les Bourgeois - The Tasting Room After Dark
DESCRIPTION:Join us at The Tasting Room: After Dark featuring local music on Friday evenings from 6 – 8pm.
URL:https://events.abc17news.com/event/les-bourgeois-the-tasting-room-after-dark/2025-01-03/
LOCATION:Les Bourgeois Tasting Room\, 12847 W. Highway BB\, Rocheport\, MO
CATEGORIES:Food and Drink,Music
ATTACH;FMTTYPE=image/jpeg:https://events.abc17news.com/wp-content/uploads/2025/01/461817494_982770880547800_2300438140297127003_n.jpg
END:VEVENT
BEGIN:VEVENT
DTSTART;TZID=America/Los_Angeles:20250105T100000
DTEND;TZID=America/Los_Angeles:20250105T120000
DTSTAMP:20260422T134456
CREATED:20241107T211942Z
LAST-MODIFIED:20241107T211942Z
UID:10007834-1736071200-1736078400@events.abc17news.com
SUMMARY:Columbia Atheists Sunday Coffee
DESCRIPTION:Join us for coffee and baked goods with good stimulating conversations with like minded people! \nTable in back on right side.
URL:https://events.abc17news.com/event/columbia-atheists-sunday-coffee-2/2025-01-05/
CATEGORIES:Community,Education,Food and Drink
ATTACH;FMTTYPE=image/jpeg:https://events.abc17news.com/wp-content/uploads/2024/11/Columbia-Atheists.jpg
ORGANIZER;CN="Columbia Atheists":MAILTO:sokelley53@gmail.com
END:VEVENT
BEGIN:VEVENT
DTSTART;TZID=America/Los_Angeles:20250108T190000
DTEND;TZID=America/Los_Angeles:20250108T210000
DTSTAMP:20260422T134456
CREATED:20241107T211943Z
LAST-MODIFIED:20241107T211943Z
UID:10008092-1736362800-1736370000@events.abc17news.com
SUMMARY:Columbia Atheists Wednesday get togethers!
DESCRIPTION:Join us for stimulating conversation\, sharing ideas\, ordering drinks/food (on your own dime)
URL:https://events.abc17news.com/event/columbia-atheists-wednesday-get-togethers/2025-01-08/
LOCATION:Broadway Brewery\, 816 E Broadway\, Columbia\, MO\, 65201\, United States
CATEGORIES:Community,Education,Food and Drink,Other
ATTACH;FMTTYPE=image/jpeg:https://events.abc17news.com/wp-content/uploads/2024/11/Columbia-Atheists-1.jpg
ORGANIZER;CN="Columbia Atheists":MAILTO:sokelley53@gmail.com
END:VEVENT
BEGIN:VEVENT
DTSTART;TZID=America/Los_Angeles:20250108T190000
DTEND;TZID=America/Los_Angeles:20250108T210000
DTSTAMP:20260422T134456
CREATED:20241111T162604Z
LAST-MODIFIED:20241111T162604Z
UID:10008350-1736362800-1736370000@events.abc17news.com
SUMMARY:Columbia Atheists
DESCRIPTION:Meet up for an evening of good discussion with like minded liberal people.
URL:https://events.abc17news.com/event/columbia-atheists/2025-01-08/
LOCATION:Broadway Brewery\, 816 E Broadway\, Columbia\, MO\, 65201\, United States
CATEGORIES:Community,Education,Food and Drink,Other
ORGANIZER;CN="Columbia Atheists":MAILTO:sokelley53@gmail.com
END:VEVENT
BEGIN:VEVENT
DTSTART;TZID=America/Los_Angeles:20250110T180000
DTEND;TZID=America/Los_Angeles:20250110T200000
DTSTAMP:20260422T134456
CREATED:20250103T211827Z
LAST-MODIFIED:20250103T211827Z
UID:10008800-1736532000-1736539200@events.abc17news.com
SUMMARY:Les Bourgeois - The Tasting Room After Dark
DESCRIPTION:Join us at The Tasting Room: After Dark featuring local music on Friday evenings from 6 – 8pm.
URL:https://events.abc17news.com/event/les-bourgeois-the-tasting-room-after-dark/2025-01-10/
LOCATION:Les Bourgeois Tasting Room\, 12847 W. Highway BB\, Rocheport\, MO
CATEGORIES:Food and Drink,Music
ATTACH;FMTTYPE=image/jpeg:https://events.abc17news.com/wp-content/uploads/2025/01/461817494_982770880547800_2300438140297127003_n.jpg
END:VEVENT
BEGIN:VEVENT
DTSTART;TZID=America/Los_Angeles:20250111T090000
DTEND;TZID=America/Los_Angeles:20250111T120000
DTSTAMP:20260422T134456
CREATED:20241002T133546Z
LAST-MODIFIED:20241002T133546Z
UID:10006439-1736586000-1736596800@events.abc17news.com
SUMMARY:Columbia Farmers Market
DESCRIPTION:Experience the taste of mid-Missouri year-round at Columbia Farmers Market!!  Visit us during the Winter Season: every Saturday from 9 a.m.- noon (Nov.-March). You will find fresh produce\, meat\, farm fresh eggs\, cheeses\, honey\, artisan items & more. As a producer-only market\, everything sold at CFM is offered by the farmers and artisans who help sustain our region. We accept SNAP payments and matching benefits\, live music and children’s activities are provided at every market!  Closed the Saturday after Thanksgiving\, Christmas\, and New Year’s Day.   columbiafarmersmarket.org 573-823-6889
URL:https://events.abc17news.com/event/columbia-farmers-market-28/2025-01-11/
LOCATION:MU Health Care Pavilion at Columbia’s Agriculture Park\, 1769 W. Ash\, Columbia\, MO\, 65203
CATEGORIES:Community,Food and Drink,Health and Wellness,Shopping
ATTACH;FMTTYPE=image/jpeg:https://events.abc17news.com/wp-content/uploads/2024/09/CommunityCalendarSign-scaled.jpeg
ORGANIZER;CN="Columbia Farmers Market":MAILTO:manager@columbiafarmersmarket.org
END:VEVENT
BEGIN:VEVENT
DTSTART;TZID=America/Los_Angeles:20250112T100000
DTEND;TZID=America/Los_Angeles:20250112T120000
DTSTAMP:20260422T134456
CREATED:20241107T211942Z
LAST-MODIFIED:20241107T211942Z
UID:10007835-1736676000-1736683200@events.abc17news.com
SUMMARY:Columbia Atheists Sunday Coffee
DESCRIPTION:Join us for coffee and baked goods with good stimulating conversations with like minded people! \nTable in back on right side.
URL:https://events.abc17news.com/event/columbia-atheists-sunday-coffee-2/2025-01-12/
CATEGORIES:Community,Education,Food and Drink
ATTACH;FMTTYPE=image/jpeg:https://events.abc17news.com/wp-content/uploads/2024/11/Columbia-Atheists.jpg
ORGANIZER;CN="Columbia Atheists":MAILTO:sokelley53@gmail.com
END:VEVENT
BEGIN:VEVENT
DTSTART;TZID=America/Los_Angeles:20250112T140000
DTEND;TZID=America/Los_Angeles:20250112T163000
DTSTAMP:20260422T134456
CREATED:20250103T215206Z
LAST-MODIFIED:20250103T215206Z
UID:10008820-1736690400-1736699400@events.abc17news.com
SUMMARY:Como Cooks Culinary Carnival
DESCRIPTION:Unleash Your Inner Chef at the Como Cooks Culinary Carnival!\nJoin us for a hands-on cooking adventure with local culinary experts. In just 2.5 hours\, you’ll explore six delicious stations\, from s’mores cheeseballs to Swahili chicken pilau. Learn diverse culinary techniques\, get direct guidance from local chefs\, and enjoy a fun\, engaging atmosphere perfect for meeting fellow food enthusiasts. Don’t miss this unique opportunity to expand your cooking skills and make new friends!\nThe first 8 people can use the code “carnival50” to get $50 off when signing up!\nhttps://back2basicscooking.as.me/culinarycarnival
URL:https://events.abc17news.com/event/como-cooks-culinary-carnival-2/
LOCATION:Back 2 Basics Cooking\, 14 Business Loop E\, Columbia\, MO\, United States
CATEGORIES:Education,Food and Drink
ATTACH;FMTTYPE=image/jpeg:https://events.abc17news.com/wp-content/uploads/2025/01/445182047_994776069197014_6580602711196822050_n.jpg
END:VEVENT
BEGIN:VEVENT
DTSTART;TZID=America/Los_Angeles:20250115T190000
DTEND;TZID=America/Los_Angeles:20250115T210000
DTSTAMP:20260422T134457
CREATED:20241107T211943Z
LAST-MODIFIED:20241107T211943Z
UID:10008093-1736967600-1736974800@events.abc17news.com
SUMMARY:Columbia Atheists Wednesday get togethers!
DESCRIPTION:Join us for stimulating conversation\, sharing ideas\, ordering drinks/food (on your own dime)
URL:https://events.abc17news.com/event/columbia-atheists-wednesday-get-togethers/2025-01-15/
LOCATION:Broadway Brewery\, 816 E Broadway\, Columbia\, MO\, 65201\, United States
CATEGORIES:Community,Education,Food and Drink,Other
ATTACH;FMTTYPE=image/jpeg:https://events.abc17news.com/wp-content/uploads/2024/11/Columbia-Atheists-1.jpg
ORGANIZER;CN="Columbia Atheists":MAILTO:sokelley53@gmail.com
END:VEVENT
BEGIN:VEVENT
DTSTART;TZID=America/Los_Angeles:20250115T190000
DTEND;TZID=America/Los_Angeles:20250115T210000
DTSTAMP:20260422T134457
CREATED:20241111T162604Z
LAST-MODIFIED:20241111T162604Z
UID:10008351-1736967600-1736974800@events.abc17news.com
SUMMARY:Columbia Atheists
DESCRIPTION:Meet up for an evening of good discussion with like minded liberal people.
URL:https://events.abc17news.com/event/columbia-atheists/2025-01-15/
LOCATION:Broadway Brewery\, 816 E Broadway\, Columbia\, MO\, 65201\, United States
CATEGORIES:Community,Education,Food and Drink,Other
ORGANIZER;CN="Columbia Atheists":MAILTO:sokelley53@gmail.com
END:VEVENT
BEGIN:VEVENT
DTSTART;TZID=America/Los_Angeles:20250116T173000
DTEND;TZID=America/Los_Angeles:20250116T210000
DTSTAMP:20260422T134457
CREATED:20250103T213122Z
LAST-MODIFIED:20250103T213122Z
UID:10008814-1737048600-1737061200@events.abc17news.com
SUMMARY:Out on the Town Tour - Columbia Culinary Tours
DESCRIPTION:Allow your taste buds to experience the variety of flavors offered in the District!\nMeet the owners and managers and get an insider’s insight into some of the best restaurants downtown. There is plenty of food to eat at each location\, so make sure you bring your appetite!\nWhether you’re visiting Columbia for the first time or you’re a local\, you can always learn something about the city’s history from our experienced guides.\nBring your fellow foodies and discover the delicious flavors Columbia has to offer!\nBooking limited to 12 guests. Reserve your spot at https://columbiaculinarytours.com/food-tours/
URL:https://events.abc17news.com/event/out-on-the-town-tour-columbia-culinary-tours/
LOCATION:The District – Downtown Columbia\, Columbia\, MO
CATEGORIES:Food and Drink
ATTACH;FMTTYPE=image/jpeg:https://events.abc17news.com/wp-content/uploads/2025/01/469924414_1152287490235106_3822080685260265491_n.jpg
END:VEVENT
BEGIN:VEVENT
DTSTART;TZID=America/Los_Angeles:20250117T160000
DTEND;TZID=America/Los_Angeles:20250117T230000
DTSTAMP:20260422T134457
CREATED:20250103T214013Z
LAST-MODIFIED:20250103T214013Z
UID:10008817-1737129600-1737154800@events.abc17news.com
SUMMARY:Truman's 20th Anniversary Party
DESCRIPTION:The Brothers Image Band is gonna make this a double decade party to remember! Special edition commemorative tees\, so much reminiscing\, and maybe we’ll even bust out guitar hero if we can find it. Nah probably not. Stay tuned for more details!
URL:https://events.abc17news.com/event/trumans-20th-anniversary-party/
LOCATION:Truman’s Bar & Grill\, 3304 W. Broadway Business Park Ct.\, Columbia\, MO\, United States
CATEGORIES:Food and Drink
ATTACH;FMTTYPE=image/jpeg:https://events.abc17news.com/wp-content/uploads/2025/01/461276712_1075665424558673_1080129570669523230_n.jpg
END:VEVENT
BEGIN:VEVENT
DTSTART;TZID=America/Los_Angeles:20250117T180000
DTEND;TZID=America/Los_Angeles:20250117T200000
DTSTAMP:20260422T134457
CREATED:20250103T211827Z
LAST-MODIFIED:20250103T211827Z
UID:10008801-1737136800-1737144000@events.abc17news.com
SUMMARY:Les Bourgeois - The Tasting Room After Dark
DESCRIPTION:Join us at The Tasting Room: After Dark featuring local music on Friday evenings from 6 – 8pm.
URL:https://events.abc17news.com/event/les-bourgeois-the-tasting-room-after-dark/2025-01-17/
LOCATION:Les Bourgeois Tasting Room\, 12847 W. Highway BB\, Rocheport\, MO
CATEGORIES:Food and Drink,Music
ATTACH;FMTTYPE=image/jpeg:https://events.abc17news.com/wp-content/uploads/2025/01/461817494_982770880547800_2300438140297127003_n.jpg
END:VEVENT
BEGIN:VEVENT
DTSTART;TZID=America/Los_Angeles:20250118T090000
DTEND;TZID=America/Los_Angeles:20250118T120000
DTSTAMP:20260422T134457
CREATED:20241002T133546Z
LAST-MODIFIED:20241002T133546Z
UID:10006440-1737190800-1737201600@events.abc17news.com
SUMMARY:Columbia Farmers Market
DESCRIPTION:Experience the taste of mid-Missouri year-round at Columbia Farmers Market!!  Visit us during the Winter Season: every Saturday from 9 a.m.- noon (Nov.-March). You will find fresh produce\, meat\, farm fresh eggs\, cheeses\, honey\, artisan items & more. As a producer-only market\, everything sold at CFM is offered by the farmers and artisans who help sustain our region. We accept SNAP payments and matching benefits\, live music and children’s activities are provided at every market!  Closed the Saturday after Thanksgiving\, Christmas\, and New Year’s Day.   columbiafarmersmarket.org 573-823-6889
URL:https://events.abc17news.com/event/columbia-farmers-market-28/2025-01-18/
LOCATION:MU Health Care Pavilion at Columbia’s Agriculture Park\, 1769 W. Ash\, Columbia\, MO\, 65203
CATEGORIES:Community,Food and Drink,Health and Wellness,Shopping
ATTACH;FMTTYPE=image/jpeg:https://events.abc17news.com/wp-content/uploads/2024/09/CommunityCalendarSign-scaled.jpeg
ORGANIZER;CN="Columbia Farmers Market":MAILTO:manager@columbiafarmersmarket.org
END:VEVENT
BEGIN:VEVENT
DTSTART;TZID=America/Los_Angeles:20250119T100000
DTEND;TZID=America/Los_Angeles:20250119T120000
DTSTAMP:20260422T134457
CREATED:20241107T211942Z
LAST-MODIFIED:20241107T211942Z
UID:10007836-1737280800-1737288000@events.abc17news.com
SUMMARY:Columbia Atheists Sunday Coffee
DESCRIPTION:Join us for coffee and baked goods with good stimulating conversations with like minded people! \nTable in back on right side.
URL:https://events.abc17news.com/event/columbia-atheists-sunday-coffee-2/2025-01-19/
CATEGORIES:Community,Education,Food and Drink
ATTACH;FMTTYPE=image/jpeg:https://events.abc17news.com/wp-content/uploads/2024/11/Columbia-Atheists.jpg
ORGANIZER;CN="Columbia Atheists":MAILTO:sokelley53@gmail.com
END:VEVENT
BEGIN:VEVENT
DTSTART;TZID=America/Los_Angeles:20250119T140000
DTEND;TZID=America/Los_Angeles:20250119T160000
DTSTAMP:20260422T134457
CREATED:20250103T220941Z
LAST-MODIFIED:20250103T220941Z
UID:10008825-1737295200-1737302400@events.abc17news.com
SUMMARY:Cake Decorating 101
DESCRIPTION:Join us for a delightful journey into the world of cake decorating with Back 2 Basics Cooking! Based in Columbia\, Missouri\, we’re offering an engaging\, hands-on class led by Chef Ashley. You’ll learn everything from mastering the crumb coat\, piping basics\, color mixing magic\, buttercream techniques to using a flower nail\, all designed to elevate your cake-decorating skills.\nOur class is open to adults and kids aged 6-11 who are accompanied by an adult\, and junior chefs aged 12 and above can join solo. We have multiple dates available throughout 2024\, from 2:00 PM – 4:00 PM. Tickets are $80 per person with no hidden charges or processing fees.\nWe understand life happens\, so we offer full credit towards another class if you cancel at least 7 days in advance. If the class you’d like isn’t available\, it’s likely full\, but don’t fret – reserve your spot early for future classes! For groups of 6-8 people\, we also offer private classes.\nReady to unleash your culinary creativity? Hit the ‘tickets now’ and secure your seat!\nRead more:https://www.back2basicscooking.net/cakedecorating101
URL:https://events.abc17news.com/event/cake-decorating-101/
LOCATION:Back 2 Basics Cooking\, 14 Business Loop E\, Columbia\, MO\, United States
CATEGORIES:Food and Drink
ATTACH;FMTTYPE=image/jpeg:https://events.abc17news.com/wp-content/uploads/2025/01/464180793_1103849944956292_8016396372093089964_n.jpg
END:VEVENT
BEGIN:VEVENT
DTSTART;TZID=America/Los_Angeles:20250122T190000
DTEND;TZID=America/Los_Angeles:20250122T210000
DTSTAMP:20260422T134457
CREATED:20241107T211943Z
LAST-MODIFIED:20241107T211943Z
UID:10008094-1737572400-1737579600@events.abc17news.com
SUMMARY:Columbia Atheists Wednesday get togethers!
DESCRIPTION:Join us for stimulating conversation\, sharing ideas\, ordering drinks/food (on your own dime)
URL:https://events.abc17news.com/event/columbia-atheists-wednesday-get-togethers/2025-01-22/
LOCATION:Broadway Brewery\, 816 E Broadway\, Columbia\, MO\, 65201\, United States
CATEGORIES:Community,Education,Food and Drink,Other
ATTACH;FMTTYPE=image/jpeg:https://events.abc17news.com/wp-content/uploads/2024/11/Columbia-Atheists-1.jpg
ORGANIZER;CN="Columbia Atheists":MAILTO:sokelley53@gmail.com
END:VEVENT
BEGIN:VEVENT
DTSTART;TZID=America/Los_Angeles:20250122T190000
DTEND;TZID=America/Los_Angeles:20250122T210000
DTSTAMP:20260422T134457
CREATED:20241111T162604Z
LAST-MODIFIED:20241111T162604Z
UID:10008352-1737572400-1737579600@events.abc17news.com
SUMMARY:Columbia Atheists
DESCRIPTION:Meet up for an evening of good discussion with like minded liberal people.
URL:https://events.abc17news.com/event/columbia-atheists/2025-01-22/
LOCATION:Broadway Brewery\, 816 E Broadway\, Columbia\, MO\, 65201\, United States
CATEGORIES:Community,Education,Food and Drink,Other
ORGANIZER;CN="Columbia Atheists":MAILTO:sokelley53@gmail.com
END:VEVENT
BEGIN:VEVENT
DTSTART;TZID=America/Los_Angeles:20250124T180000
DTEND;TZID=America/Los_Angeles:20250124T200000
DTSTAMP:20260422T134457
CREATED:20250103T211827Z
LAST-MODIFIED:20250103T211827Z
UID:10008802-1737741600-1737748800@events.abc17news.com
SUMMARY:Les Bourgeois - The Tasting Room After Dark
DESCRIPTION:Join us at The Tasting Room: After Dark featuring local music on Friday evenings from 6 – 8pm.
URL:https://events.abc17news.com/event/les-bourgeois-the-tasting-room-after-dark/2025-01-24/
LOCATION:Les Bourgeois Tasting Room\, 12847 W. Highway BB\, Rocheport\, MO
CATEGORIES:Food and Drink,Music
ATTACH;FMTTYPE=image/jpeg:https://events.abc17news.com/wp-content/uploads/2025/01/461817494_982770880547800_2300438140297127003_n.jpg
END:VEVENT
BEGIN:VEVENT
DTSTART;TZID=America/Los_Angeles:20250125T090000
DTEND;TZID=America/Los_Angeles:20250125T120000
DTSTAMP:20260422T134457
CREATED:20241002T133546Z
LAST-MODIFIED:20241002T133546Z
UID:10006441-1737795600-1737806400@events.abc17news.com
SUMMARY:Columbia Farmers Market
DESCRIPTION:Experience the taste of mid-Missouri year-round at Columbia Farmers Market!!  Visit us during the Winter Season: every Saturday from 9 a.m.- noon (Nov.-March). You will find fresh produce\, meat\, farm fresh eggs\, cheeses\, honey\, artisan items & more. As a producer-only market\, everything sold at CFM is offered by the farmers and artisans who help sustain our region. We accept SNAP payments and matching benefits\, live music and children’s activities are provided at every market!  Closed the Saturday after Thanksgiving\, Christmas\, and New Year’s Day.   columbiafarmersmarket.org 573-823-6889
URL:https://events.abc17news.com/event/columbia-farmers-market-28/2025-01-25/
LOCATION:MU Health Care Pavilion at Columbia’s Agriculture Park\, 1769 W. Ash\, Columbia\, MO\, 65203
CATEGORIES:Community,Food and Drink,Health and Wellness,Shopping
ATTACH;FMTTYPE=image/jpeg:https://events.abc17news.com/wp-content/uploads/2024/09/CommunityCalendarSign-scaled.jpeg
ORGANIZER;CN="Columbia Farmers Market":MAILTO:manager@columbiafarmersmarket.org
END:VEVENT
BEGIN:VEVENT
DTSTART;TZID=America/Los_Angeles:20250126T100000
DTEND;TZID=America/Los_Angeles:20250126T120000
DTSTAMP:20260422T134457
CREATED:20241107T211942Z
LAST-MODIFIED:20241107T211942Z
UID:10007837-1737885600-1737892800@events.abc17news.com
SUMMARY:Columbia Atheists Sunday Coffee
DESCRIPTION:Join us for coffee and baked goods with good stimulating conversations with like minded people! \nTable in back on right side.
URL:https://events.abc17news.com/event/columbia-atheists-sunday-coffee-2/2025-01-26/
CATEGORIES:Community,Education,Food and Drink
ATTACH;FMTTYPE=image/jpeg:https://events.abc17news.com/wp-content/uploads/2024/11/Columbia-Atheists.jpg
ORGANIZER;CN="Columbia Atheists":MAILTO:sokelley53@gmail.com
END:VEVENT
BEGIN:VEVENT
DTSTART;TZID=America/Los_Angeles:20250129T120000
DTEND;TZID=America/Los_Angeles:20250129T130000
DTSTAMP:20260422T134457
CREATED:20250103T220614Z
LAST-MODIFIED:20250103T220614Z
UID:10008824-1738152000-1738155600@events.abc17news.com
SUMMARY:Veteran-Led Wild Game Cooking Class
DESCRIPTION:Lindsey Koelling\, RD\, LD\, Truman VA’s Healthy Teaching Kitchen Coordinator\, will host a Veteran-led cooking class on how to cook wild game. John Dudley\, a U.S. Navy Veteran\, will offer instruction on preparing deer. The class will be held in-person in Truman VA’s Patient Education Center or virtually through VA Video Connect. For more information or to sign up for the class\, please contactLindsey Koelling\, RD\, LD\, at (573) 814-6000\, extension 53989.
URL:https://events.abc17news.com/event/veteran-led-wild-game-cooking-class/
LOCATION:Truman VA Patient Education Center\, 800 Hospital Dr.\, Columbia\, MO\, 65201\, United States
CATEGORIES:Education,Food and Drink
ATTACH;FMTTYPE=image/jpeg:https://events.abc17news.com/wp-content/uploads/2025/01/470878895_975165001299835_5882075737967772880_n.jpg
END:VEVENT
BEGIN:VEVENT
DTSTART;TZID=America/Los_Angeles:20250129T190000
DTEND;TZID=America/Los_Angeles:20250129T210000
DTSTAMP:20260422T134457
CREATED:20241107T211943Z
LAST-MODIFIED:20241107T211943Z
UID:10008095-1738177200-1738184400@events.abc17news.com
SUMMARY:Columbia Atheists Wednesday get togethers!
DESCRIPTION:Join us for stimulating conversation\, sharing ideas\, ordering drinks/food (on your own dime)
URL:https://events.abc17news.com/event/columbia-atheists-wednesday-get-togethers/2025-01-29/
LOCATION:Broadway Brewery\, 816 E Broadway\, Columbia\, MO\, 65201\, United States
CATEGORIES:Community,Education,Food and Drink,Other
ATTACH;FMTTYPE=image/jpeg:https://events.abc17news.com/wp-content/uploads/2024/11/Columbia-Atheists-1.jpg
ORGANIZER;CN="Columbia Atheists":MAILTO:sokelley53@gmail.com
END:VEVENT
BEGIN:VEVENT
DTSTART;TZID=America/Los_Angeles:20250129T190000
DTEND;TZID=America/Los_Angeles:20250129T210000
DTSTAMP:20260422T134457
CREATED:20241111T162604Z
LAST-MODIFIED:20241111T162604Z
UID:10008353-1738177200-1738184400@events.abc17news.com
SUMMARY:Columbia Atheists
DESCRIPTION:Meet up for an evening of good discussion with like minded liberal people.
URL:https://events.abc17news.com/event/columbia-atheists/2025-01-29/
LOCATION:Broadway Brewery\, 816 E Broadway\, Columbia\, MO\, 65201\, United States
CATEGORIES:Community,Education,Food and Drink,Other
ORGANIZER;CN="Columbia Atheists":MAILTO:sokelley53@gmail.com
END:VEVENT
END:VCALENDAR