BEGIN:VCALENDAR
VERSION:2.0
PRODID:-//ABC 17 NEWS Events - ECPv6.15.20//NONSGML v1.0//EN
CALSCALE:GREGORIAN
METHOD:PUBLISH
X-WR-CALNAME:ABC 17 NEWS Events
X-ORIGINAL-URL:https://events.abc17news.com
X-WR-CALDESC:Events for ABC 17 NEWS Events
REFRESH-INTERVAL;VALUE=DURATION:PT1H
X-Robots-Tag:noindex
X-PUBLISHED-TTL:PT1H
BEGIN:VTIMEZONE
TZID:America/Los_Angeles
BEGIN:DAYLIGHT
TZOFFSETFROM:-0800
TZOFFSETTO:-0700
TZNAME:PDT
DTSTART:20230312T100000
END:DAYLIGHT
BEGIN:STANDARD
TZOFFSETFROM:-0700
TZOFFSETTO:-0800
TZNAME:PST
DTSTART:20231105T090000
END:STANDARD
BEGIN:DAYLIGHT
TZOFFSETFROM:-0800
TZOFFSETTO:-0700
TZNAME:PDT
DTSTART:20240310T100000
END:DAYLIGHT
BEGIN:STANDARD
TZOFFSETFROM:-0700
TZOFFSETTO:-0800
TZNAME:PST
DTSTART:20241103T090000
END:STANDARD
BEGIN:DAYLIGHT
TZOFFSETFROM:-0800
TZOFFSETTO:-0700
TZNAME:PDT
DTSTART:20250309T100000
END:DAYLIGHT
BEGIN:STANDARD
TZOFFSETFROM:-0700
TZOFFSETTO:-0800
TZNAME:PST
DTSTART:20251102T090000
END:STANDARD
END:VTIMEZONE
BEGIN:VEVENT
DTSTART;TZID=America/Los_Angeles:20240731T133000
DTEND;TZID=America/Los_Angeles:20240731T153000
DTSTAMP:20260420T124757
CREATED:20240711T142101Z
LAST-MODIFIED:20240711T142101Z
UID:10005718-1722432600-1722439800@events.abc17news.com
SUMMARY:Silent Book-Reading Party
DESCRIPTION:When’s the last time you curled up for an uninterrupted hour of reading? Black Tea Bookshop and Toasty Goat Coffee Co. come together to host a Silent Reading Party! BYOB (Bring Your Own Book) and enjoy reading in the company of fellow book lovers in a cozy atmosphere. For the first 30 minutes we’ll mingle\, chat about what we’re reading and grab a drink. Then we’ll find a comfy spot to spend the next FULL HOUR silently slipping into separate worlds to read our own books and sip on our coffee or tea. We will close with 30 minutes of discussion about what we loved\, what we are learning\, what made us laugh or cry\, something that inspires us\, or whatever it is that we feel like sharing – if you gravitate mostly to the “silent” part of book reading you can enjoy hearing from those around you. Conversation is casual and optional!\n\nIn a book slump and not sure what book to bring with you\, or a ravenous reader and looking for new inspiration? We’ve got you covered! Black Tea Bookshop will have an eclectic and exciting selection of books present at the event for you to peruse and purchase!\n\nTickets only cost $10 and here’s what you get:•A seat at the table•Any 12oz drink off the Toasty Goat Menu•An exclusive momento to take home with you•The invaluable investment of connecting with yourself through reading and your local community through gathering together!\nPurchase tickets here:\nhttps://toastygoatcoffee.com/…/silent-book-reading-party/\nSpace is limited so purchase your tickets fast!
URL:https://events.abc17news.com/event/silent-book-reading-party/
LOCATION:Toasty Goat Coffee Co.\, 515 S Scott Blvd\, Columbia\, 65203
CATEGORIES:Community,Food and Drink
ATTACH;FMTTYPE=image/jpeg:https://events.abc17news.com/wp-content/uploads/2024/07/read.jpg
END:VEVENT
BEGIN:VEVENT
DTSTART;TZID=America/Los_Angeles:20240731T160000
DTEND;TZID=America/Los_Angeles:20240731T190000
DTSTAMP:20260420T124757
CREATED:20240209T191716Z
LAST-MODIFIED:20240209T191716Z
UID:10004521-1722441600-1722452400@events.abc17news.com
SUMMARY:Columbia Farmers Market
DESCRIPTION:Savor the flavors of mid-Missouri at the esteemed Columbia Farmers Market\, renowned as one of the nation’s premier farmers markets! Join us every Saturday under the MU Health Care Pavilion at Columbia’s Agriculture Park from 8:00 a.m. to noon (April-October) and 9:00 a.m. to noon (November-March). Additionally\, indulge in the abundance of local goodness during peak season on Wednesdays from 4:00-7:00 p.m. (May 29th-Sept. 11th) at Columbia’s Agriculture Park. \nDiscover a diverse array of fresh produce\, meats\, farm-fresh eggs\, artisan cheeses\, honey\, vibrant cut flowers\, plants\, and various artisanal items. As a producer-only market\, every product at CFM is grown\, raised\, or made by dedicated farmers and artisans who contribute to the sustenance of our region. We accept SNAP payments and provide matching benefits at all markets.  Come rain or shine\, we’re here to offer you the best of mid-Missouri! For more information\, contact visit columbiafarmersmarket.org.
URL:https://events.abc17news.com/event/columbia-farmers-market-27/2024-07-31/
LOCATION:Columbia’s Agriculture Park\, 1769 W Ash St\, 1769 W Ash St\, Columbia\, 65203
CATEGORIES:Community,Food and Drink,Health and Wellness,Other,Shopping
ATTACH;FMTTYPE=image/jpeg:https://events.abc17news.com/wp-content/uploads/2024/02/CommunityCalendarSign-1-scaled.jpeg
ORGANIZER;CN="Columbia Farmers Market":MAILTO:manager@columbiafarmersmarket.org
END:VEVENT
END:VCALENDAR