BEGIN:VCALENDAR
VERSION:2.0
PRODID:-//ABC 17 NEWS Events - ECPv6.15.20//NONSGML v1.0//EN
CALSCALE:GREGORIAN
METHOD:PUBLISH
X-ORIGINAL-URL:https://events.abc17news.com
X-WR-CALDESC:Events for ABC 17 NEWS Events
REFRESH-INTERVAL;VALUE=DURATION:PT1H
X-Robots-Tag:noindex
X-PUBLISHED-TTL:PT1H
BEGIN:VTIMEZONE
TZID:America/Los_Angeles
BEGIN:DAYLIGHT
TZOFFSETFROM:-0800
TZOFFSETTO:-0700
TZNAME:PDT
DTSTART:20230312T100000
END:DAYLIGHT
BEGIN:STANDARD
TZOFFSETFROM:-0700
TZOFFSETTO:-0800
TZNAME:PST
DTSTART:20231105T090000
END:STANDARD
BEGIN:DAYLIGHT
TZOFFSETFROM:-0800
TZOFFSETTO:-0700
TZNAME:PDT
DTSTART:20240310T100000
END:DAYLIGHT
BEGIN:STANDARD
TZOFFSETFROM:-0700
TZOFFSETTO:-0800
TZNAME:PST
DTSTART:20241103T090000
END:STANDARD
BEGIN:DAYLIGHT
TZOFFSETFROM:-0800
TZOFFSETTO:-0700
TZNAME:PDT
DTSTART:20250309T100000
END:DAYLIGHT
BEGIN:STANDARD
TZOFFSETFROM:-0700
TZOFFSETTO:-0800
TZNAME:PST
DTSTART:20251102T090000
END:STANDARD
END:VTIMEZONE
BEGIN:VEVENT
DTSTART;TZID=America/Los_Angeles:20240907T090000
DTEND;TZID=America/Los_Angeles:20240907T180000
DTSTAMP:20260421T190303
CREATED:20240830T182120Z
LAST-MODIFIED:20240830T182120Z
UID:10006381-1725699600-1725732000@events.abc17news.com
SUMMARY:Fall Kickoff at Four Oaks Farm
DESCRIPTION:Fall into FUN! Sunflowers\, Pumpkins\, Family Memories Await!
URL:https://events.abc17news.com/event/fall-kickoff-at-four-oaks-farm/
LOCATION:Four Oaks Farm\, Columbia\, MO\, 65101\, United States
CATEGORIES:Fairs and Festivals
ATTACH;FMTTYPE=image/jpeg:https://events.abc17news.com/wp-content/uploads/2024/08/oaks.jpg
END:VEVENT
BEGIN:VEVENT
DTSTART;TZID=America/Los_Angeles:20240907T090000
DTEND;TZID=America/Los_Angeles:20240908T200000
DTSTAMP:20260421T190303
CREATED:20240830T170014Z
LAST-MODIFIED:20240830T170455Z
UID:10006378-1725699600-1725825600@events.abc17news.com
SUMMARY:Septemberfest
DESCRIPTION:Join us September 6th for our opening night of games\, Bingo\, beer garden\, music\, and more!\nSeptember 7th will be a full day of parade (10am)\, vendors\, games\, concessions\, Pickleball\, music\, and much more!\nOur annual community worship service will be held Sunday the 9th.\nParade Theme: Grab Your Gear\, our First Responders are Here!\nCheck back for more specific times and details closer to time.
URL:https://events.abc17news.com/event/septemberfest/2024-09-07/
LOCATION:Harrisburg\, Harrisburg\, MO\, 65256
CATEGORIES:Fairs and Festivals
ATTACH;FMTTYPE=image/jpeg:https://events.abc17news.com/wp-content/uploads/2024/08/septfest.jpg
END:VEVENT
END:VCALENDAR