BEGIN:VCALENDAR
VERSION:2.0
PRODID:-//ABC 17 NEWS Events - ECPv6.15.20//NONSGML v1.0//EN
CALSCALE:GREGORIAN
METHOD:PUBLISH
X-WR-CALNAME:ABC 17 NEWS Events
X-ORIGINAL-URL:https://events.abc17news.com
X-WR-CALDESC:Events for ABC 17 NEWS Events
REFRESH-INTERVAL;VALUE=DURATION:PT1H
X-Robots-Tag:noindex
X-PUBLISHED-TTL:PT1H
BEGIN:VTIMEZONE
TZID:America/Los_Angeles
BEGIN:DAYLIGHT
TZOFFSETFROM:-0800
TZOFFSETTO:-0700
TZNAME:PDT
DTSTART:20220313T100000
END:DAYLIGHT
BEGIN:STANDARD
TZOFFSETFROM:-0700
TZOFFSETTO:-0800
TZNAME:PST
DTSTART:20221106T090000
END:STANDARD
BEGIN:DAYLIGHT
TZOFFSETFROM:-0800
TZOFFSETTO:-0700
TZNAME:PDT
DTSTART:20230312T100000
END:DAYLIGHT
BEGIN:STANDARD
TZOFFSETFROM:-0700
TZOFFSETTO:-0800
TZNAME:PST
DTSTART:20231105T090000
END:STANDARD
BEGIN:DAYLIGHT
TZOFFSETFROM:-0800
TZOFFSETTO:-0700
TZNAME:PDT
DTSTART:20240310T100000
END:DAYLIGHT
BEGIN:STANDARD
TZOFFSETFROM:-0700
TZOFFSETTO:-0800
TZNAME:PST
DTSTART:20241103T090000
END:STANDARD
END:VTIMEZONE
BEGIN:VEVENT
DTSTART;TZID=America/Los_Angeles:20230924T110000
DTEND;TZID=America/Los_Angeles:20230924T180000
DTSTAMP:20260423T103110
CREATED:20230829T163528Z
LAST-MODIFIED:20230912T195942Z
UID:10003069-1695553200-1695578400@events.abc17news.com
SUMMARY:St Peter Parish Fall Festival
DESCRIPTION:St Peter Parish Annual Fall Festival in Fulton\, MO will be held on Sunday\, September 24 from 11 am – 6 p.m. on  the parish grounds at 700 St. Rd. Z.   Fried Chicken and Ham Dinners with sides\, desserts & drink. Adults $15\, Kids (age 6-12) $6 and Children (5 and under) eat Free.  Country Store –Inflatables –Games – Carmen’s Face Painting – Prizes.  Come and spend the day at the Fall Fetival!
URL:https://events.abc17news.com/event/st-peter-parish-fall-festival/
LOCATION:700 State Rd. Z\, 700 State Rd. Z\, Fulton\, MO\, 65251
CATEGORIES:Fairs and Festivals
ATTACH;FMTTYPE=image/jpeg:https://events.abc17news.com/wp-content/uploads/2023/08/23FFFlyer_-MO.jpg
END:VEVENT
END:VCALENDAR