BEGIN:VCALENDAR
VERSION:2.0
PRODID:-//ABC 17 NEWS Events - ECPv6.15.20//NONSGML v1.0//EN
CALSCALE:GREGORIAN
METHOD:PUBLISH
X-ORIGINAL-URL:https://events.abc17news.com
X-WR-CALDESC:Events for ABC 17 NEWS Events
REFRESH-INTERVAL;VALUE=DURATION:PT1H
X-Robots-Tag:noindex
X-PUBLISHED-TTL:PT1H
BEGIN:VTIMEZONE
TZID:America/Los_Angeles
BEGIN:DAYLIGHT
TZOFFSETFROM:-0800
TZOFFSETTO:-0700
TZNAME:PDT
DTSTART:20220313T100000
END:DAYLIGHT
BEGIN:STANDARD
TZOFFSETFROM:-0700
TZOFFSETTO:-0800
TZNAME:PST
DTSTART:20221106T090000
END:STANDARD
BEGIN:DAYLIGHT
TZOFFSETFROM:-0800
TZOFFSETTO:-0700
TZNAME:PDT
DTSTART:20230312T100000
END:DAYLIGHT
BEGIN:STANDARD
TZOFFSETFROM:-0700
TZOFFSETTO:-0800
TZNAME:PST
DTSTART:20231105T090000
END:STANDARD
BEGIN:DAYLIGHT
TZOFFSETFROM:-0800
TZOFFSETTO:-0700
TZNAME:PDT
DTSTART:20240310T100000
END:DAYLIGHT
BEGIN:STANDARD
TZOFFSETFROM:-0700
TZOFFSETTO:-0800
TZNAME:PST
DTSTART:20241103T090000
END:STANDARD
END:VTIMEZONE
BEGIN:VEVENT
DTSTART;VALUE=DATE:20230826
DTEND;VALUE=DATE:20230827
DTSTAMP:20260420T114210
CREATED:20230707T152643Z
LAST-MODIFIED:20230707T152643Z
UID:10002801-1693008000-1693094399@events.abc17news.com
SUMMARY:8th Annual Battle of the Brews
DESCRIPTION:Come out and enjoy beer from a variety of brewers as we raise money for Independent Living Resource Center & Southwest Early Childhood Center! In addition to tasting some great beers\, you can also enjoy music by A Touch of Class DJ & MC as well as other games and prizes.\nTickets are $35 if purchased prior to the event\, or $45 at the door.
URL:https://events.abc17news.com/event/8th-annual-battle-of-the-brews/
LOCATION:Jefferson City Jaycees Fairgrounds\, 1445 Fairgrounds Road\, Jefferson City\, MO\, 65101\, United States
CATEGORIES:Community,Fairs and Festivals,Food and Drink
ATTACH;FMTTYPE=image/png:https://events.abc17news.com/wp-content/uploads/2023/07/brews.png
END:VEVENT
BEGIN:VEVENT
DTSTART;TZID=America/Los_Angeles:20230826T150000
DTEND;TZID=America/Los_Angeles:20230826T200000
DTSTAMP:20260420T114210
CREATED:20230728T155633Z
LAST-MODIFIED:20230728T155633Z
UID:10002910-1693062000-1693080000@events.abc17news.com
SUMMARY:Capital city Food truck FESTIVAL!!
DESCRIPTION:Join us for an awesome evening of several of your favorite local food trucks from all over mid Missouri. Games\, music entertainment\, and local vendors. General admission is free join us.!! We can’t wait to see you there COME HUNGRY!!
URL:https://events.abc17news.com/event/capital-city-food-truck-festival/
LOCATION:North Jefferson City Recreation Area Fields\, 927 4th\, Jefferson City\, MO\, 65101
CATEGORIES:Fairs and Festivals
ATTACH;FMTTYPE=image/jpeg:https://events.abc17news.com/wp-content/uploads/2023/07/IMG_7293.jpeg
END:VEVENT
BEGIN:VEVENT
DTSTART;TZID=America/Los_Angeles:20230826T150000
DTEND;TZID=America/Los_Angeles:20230826T200000
DTSTAMP:20260420T114210
CREATED:20230731T201341Z
LAST-MODIFIED:20230731T201341Z
UID:10002915-1693062000-1693080000@events.abc17news.com
SUMMARY:Capital City Food Truck Festival
DESCRIPTION:Join us for our first ever FOOD TRUCK FESTIVAL! Hosted by The miracle whip mobile cafe and MUTTZ to miracles!! Come\nOne come all we welcome you to join us for a night of family fun!! Games \, local eats\, LIVE MUSIC and more!!! Any food vendors wanting to join us we ask a small donation to our cause 25 $ is the vendor parking/tent fee for the event. This helps us to secure activities \, advertisements ect … thank you and we hope to see everyone there!! General admission is Free!! NOW ACCEPTING INQUIRIES FOR BANDS!!! \nSee less
URL:https://events.abc17news.com/event/capital-city-food-truck-festival-2/
LOCATION:North Jefferson City Recreation Area Fields\, 927 4th\, Jefferson City\, MO\, 65101
CATEGORIES:Community,Fairs and Festivals,Food and Drink
ATTACH;FMTTYPE=image/jpeg:https://events.abc17news.com/wp-content/uploads/2023/07/foodtruck.jpg
END:VEVENT
END:VCALENDAR