BEGIN:VCALENDAR
VERSION:2.0
PRODID:-//ABC 17 NEWS Events - ECPv6.15.20//NONSGML v1.0//EN
CALSCALE:GREGORIAN
METHOD:PUBLISH
X-ORIGINAL-URL:https://events.abc17news.com
X-WR-CALDESC:Events for ABC 17 NEWS Events
REFRESH-INTERVAL;VALUE=DURATION:PT1H
X-Robots-Tag:noindex
X-PUBLISHED-TTL:PT1H
BEGIN:VTIMEZONE
TZID:America/Los_Angeles
BEGIN:DAYLIGHT
TZOFFSETFROM:-0800
TZOFFSETTO:-0700
TZNAME:PDT
DTSTART:20220313T100000
END:DAYLIGHT
BEGIN:STANDARD
TZOFFSETFROM:-0700
TZOFFSETTO:-0800
TZNAME:PST
DTSTART:20221106T090000
END:STANDARD
BEGIN:DAYLIGHT
TZOFFSETFROM:-0800
TZOFFSETTO:-0700
TZNAME:PDT
DTSTART:20230312T100000
END:DAYLIGHT
BEGIN:STANDARD
TZOFFSETFROM:-0700
TZOFFSETTO:-0800
TZNAME:PST
DTSTART:20231105T090000
END:STANDARD
BEGIN:DAYLIGHT
TZOFFSETFROM:-0800
TZOFFSETTO:-0700
TZNAME:PDT
DTSTART:20240310T100000
END:DAYLIGHT
BEGIN:STANDARD
TZOFFSETFROM:-0700
TZOFFSETTO:-0800
TZNAME:PST
DTSTART:20241103T090000
END:STANDARD
END:VTIMEZONE
BEGIN:VEVENT
DTSTART;TZID=America/Los_Angeles:20230617T100000
DTEND;TZID=America/Los_Angeles:20230617T160000
DTSTAMP:20260420T163858
CREATED:20230508T160032Z
LAST-MODIFIED:20230508T160032Z
UID:10001285-1686996000-1687017600@events.abc17news.com
SUMMARY:6th Annual Butterfly Festival at MU Jefferson Farm and Garden
DESCRIPTION:The Butterfly Festival is an opportunity to view butterflies in an enclosure with information on the pollinators life cycles\, host and nectar plants and why they are important.  The festival includes kids crafts\, gardening tips\, information about bees\, animals in the barn and food trucks.
URL:https://events.abc17news.com/event/6th-annual-butterfly-festival-at-mu-jefferson-farm-and-garden/
LOCATION:Jefferson Farm and Garden\, 4800 New Haven Road\, Columbia\, 65201
CATEGORIES:Fairs and Festivals
END:VEVENT
BEGIN:VEVENT
DTSTART;TZID=America/Los_Angeles:20230617T120000
DTEND;TZID=America/Los_Angeles:20230617T170000
DTSTAMP:20260420T163858
CREATED:20230530T172315Z
LAST-MODIFIED:20230530T172315Z
UID:10002378-1687003200-1687021200@events.abc17news.com
SUMMARY:COMO Grown-Up Book Fair
DESCRIPTION:Saturday\, June 17\n12:30-5pm (Early Entry 11:30am)\nat Rose Park (18+)\n$15 General Admission // $25 Early Entry (All Early Entry Ticket Buyers will receive a custom tote)\nOn Sale Now: bit.ly/bookfair-rp\n*Portion of proceeds to benefit Daniel Boone Regional Library Foundation\nWe’re bringing the childhood joy of the Scholastic book fair back to adults on Saturday\, June 17 at Rose Park! Come to the inaugural CoMo Grown-Up Book Fair and browse through a curated selection of books from local and independent booksellers including: Skylark Bookshop\, Yellow Dog Bookshop\, Distant Planet Comics\, The Mizzou Bookstore\, author Aaron Fox\, author Sean R. Frazier\, author Elaine Strawn\, FREEAIR Books\, and Peace Nook! Plus\, immerse yourself in a full 90s experience\, including:\n»Photo Booth provided by Selfie Love CoMo\n»Bar featuring Adult Capri Suns + literary style cocktail menu\n»A bake sale via Sweatbea’s Bakery\n»Pizza Tree & Angelina’s Tacos\n»Vintage market and goods including Regrowth Thrift\, The B-Side Records & more TBA!\n»Trivia sessions + more!
URL:https://events.abc17news.com/event/como-grown-up-book-fair/
LOCATION:Rose Music Hall\, 1013 Park Ave\, Columbia\, 65201
CATEGORIES:Community,Fairs and Festivals
ATTACH;FMTTYPE=image/jpeg:https://events.abc17news.com/wp-content/uploads/2023/05/342357763_6017937314985538_1415816050181112373_n.jpg
END:VEVENT
END:VCALENDAR