BEGIN:VCALENDAR
VERSION:2.0
PRODID:-//ABC 17 NEWS Events - ECPv6.15.20//NONSGML v1.0//EN
CALSCALE:GREGORIAN
METHOD:PUBLISH
X-ORIGINAL-URL:https://events.abc17news.com
X-WR-CALDESC:Events for ABC 17 NEWS Events
REFRESH-INTERVAL;VALUE=DURATION:PT1H
X-Robots-Tag:noindex
X-PUBLISHED-TTL:PT1H
BEGIN:VTIMEZONE
TZID:America/Los_Angeles
BEGIN:DAYLIGHT
TZOFFSETFROM:-0800
TZOFFSETTO:-0700
TZNAME:PDT
DTSTART:20250309T100000
END:DAYLIGHT
BEGIN:STANDARD
TZOFFSETFROM:-0700
TZOFFSETTO:-0800
TZNAME:PST
DTSTART:20251102T090000
END:STANDARD
BEGIN:DAYLIGHT
TZOFFSETFROM:-0800
TZOFFSETTO:-0700
TZNAME:PDT
DTSTART:20260308T100000
END:DAYLIGHT
BEGIN:STANDARD
TZOFFSETFROM:-0700
TZOFFSETTO:-0800
TZNAME:PST
DTSTART:20261101T090000
END:STANDARD
BEGIN:DAYLIGHT
TZOFFSETFROM:-0800
TZOFFSETTO:-0700
TZNAME:PDT
DTSTART:20270314T100000
END:DAYLIGHT
BEGIN:STANDARD
TZOFFSETFROM:-0700
TZOFFSETTO:-0800
TZNAME:PST
DTSTART:20271107T090000
END:STANDARD
END:VTIMEZONE
BEGIN:VEVENT
DTSTART;TZID=America/Los_Angeles:20260614T100000
DTEND;TZID=America/Los_Angeles:20260614T120000
DTSTAMP:20260419T050142
CREATED:20241107T211942Z
LAST-MODIFIED:20241107T211942Z
UID:10007909-1781431200-1781438400@events.abc17news.com
SUMMARY:Columbia Atheists Sunday Coffee
DESCRIPTION:Join us for coffee and baked goods with good stimulating conversations with like minded people! \nTable in back on right side.
URL:https://events.abc17news.com/event/columbia-atheists-sunday-coffee-2/2026-06-14/
LOCATION:MO
CATEGORIES:Community,Education,Food and Drink
ATTACH;FMTTYPE=image/jpeg:https://events.abc17news.com/wp-content/uploads/2024/11/Columbia-Atheists.jpg
ORGANIZER;CN="Columbia Atheists":MAILTO:sokelley53@gmail.com
END:VEVENT
BEGIN:VEVENT
DTSTART;TZID=America/Los_Angeles:20260617T190000
DTEND;TZID=America/Los_Angeles:20260617T210000
DTSTAMP:20260419T050142
CREATED:20241107T211943Z
LAST-MODIFIED:20241107T211943Z
UID:10008167-1781722800-1781730000@events.abc17news.com
SUMMARY:Columbia Atheists Wednesday get togethers!
DESCRIPTION:Join us for stimulating conversation\, sharing ideas\, ordering drinks/food (on your own dime)
URL:https://events.abc17news.com/event/columbia-atheists-wednesday-get-togethers/2026-06-17/
LOCATION:Broadway Brewery\, 816 E Broadway\, Columbia\, MO\, 65201\, United States
CATEGORIES:Community,Education,Food and Drink,Other
ATTACH;FMTTYPE=image/jpeg:https://events.abc17news.com/wp-content/uploads/2024/11/Columbia-Atheists-1.jpg
ORGANIZER;CN="Columbia Atheists":MAILTO:sokelley53@gmail.com
END:VEVENT
BEGIN:VEVENT
DTSTART;TZID=America/Los_Angeles:20260621T100000
DTEND;TZID=America/Los_Angeles:20260621T120000
DTSTAMP:20260419T050142
CREATED:20241107T211942Z
LAST-MODIFIED:20241107T211942Z
UID:10007910-1782036000-1782043200@events.abc17news.com
SUMMARY:Columbia Atheists Sunday Coffee
DESCRIPTION:Join us for coffee and baked goods with good stimulating conversations with like minded people! \nTable in back on right side.
URL:https://events.abc17news.com/event/columbia-atheists-sunday-coffee-2/2026-06-21/
LOCATION:MO
CATEGORIES:Community,Education,Food and Drink
ATTACH;FMTTYPE=image/jpeg:https://events.abc17news.com/wp-content/uploads/2024/11/Columbia-Atheists.jpg
ORGANIZER;CN="Columbia Atheists":MAILTO:sokelley53@gmail.com
END:VEVENT
BEGIN:VEVENT
DTSTART;TZID=America/Los_Angeles:20260624T190000
DTEND;TZID=America/Los_Angeles:20260624T210000
DTSTAMP:20260419T050142
CREATED:20241107T211943Z
LAST-MODIFIED:20241107T211943Z
UID:10008168-1782327600-1782334800@events.abc17news.com
SUMMARY:Columbia Atheists Wednesday get togethers!
DESCRIPTION:Join us for stimulating conversation\, sharing ideas\, ordering drinks/food (on your own dime)
URL:https://events.abc17news.com/event/columbia-atheists-wednesday-get-togethers/2026-06-24/
LOCATION:Broadway Brewery\, 816 E Broadway\, Columbia\, MO\, 65201\, United States
CATEGORIES:Community,Education,Food and Drink,Other
ATTACH;FMTTYPE=image/jpeg:https://events.abc17news.com/wp-content/uploads/2024/11/Columbia-Atheists-1.jpg
ORGANIZER;CN="Columbia Atheists":MAILTO:sokelley53@gmail.com
END:VEVENT
BEGIN:VEVENT
DTSTART;TZID=America/Los_Angeles:20260628T100000
DTEND;TZID=America/Los_Angeles:20260628T120000
DTSTAMP:20260419T050142
CREATED:20241107T211942Z
LAST-MODIFIED:20241107T211942Z
UID:10007911-1782640800-1782648000@events.abc17news.com
SUMMARY:Columbia Atheists Sunday Coffee
DESCRIPTION:Join us for coffee and baked goods with good stimulating conversations with like minded people! \nTable in back on right side.
URL:https://events.abc17news.com/event/columbia-atheists-sunday-coffee-2/2026-06-28/
LOCATION:MO
CATEGORIES:Community,Education,Food and Drink
ATTACH;FMTTYPE=image/jpeg:https://events.abc17news.com/wp-content/uploads/2024/11/Columbia-Atheists.jpg
ORGANIZER;CN="Columbia Atheists":MAILTO:sokelley53@gmail.com
END:VEVENT
BEGIN:VEVENT
DTSTART;TZID=America/Los_Angeles:20260701T190000
DTEND;TZID=America/Los_Angeles:20260701T210000
DTSTAMP:20260419T050142
CREATED:20241107T211943Z
LAST-MODIFIED:20241107T211943Z
UID:10008169-1782932400-1782939600@events.abc17news.com
SUMMARY:Columbia Atheists Wednesday get togethers!
DESCRIPTION:Join us for stimulating conversation\, sharing ideas\, ordering drinks/food (on your own dime)
URL:https://events.abc17news.com/event/columbia-atheists-wednesday-get-togethers/2026-07-01/
LOCATION:Broadway Brewery\, 816 E Broadway\, Columbia\, MO\, 65201\, United States
CATEGORIES:Community,Education,Food and Drink,Other
ATTACH;FMTTYPE=image/jpeg:https://events.abc17news.com/wp-content/uploads/2024/11/Columbia-Atheists-1.jpg
ORGANIZER;CN="Columbia Atheists":MAILTO:sokelley53@gmail.com
END:VEVENT
BEGIN:VEVENT
DTSTART;TZID=America/Los_Angeles:20260705T100000
DTEND;TZID=America/Los_Angeles:20260705T120000
DTSTAMP:20260419T050142
CREATED:20241107T211942Z
LAST-MODIFIED:20241107T211942Z
UID:10007912-1783245600-1783252800@events.abc17news.com
SUMMARY:Columbia Atheists Sunday Coffee
DESCRIPTION:Join us for coffee and baked goods with good stimulating conversations with like minded people! \nTable in back on right side.
URL:https://events.abc17news.com/event/columbia-atheists-sunday-coffee-2/2026-07-05/
LOCATION:MO
CATEGORIES:Community,Education,Food and Drink
ATTACH;FMTTYPE=image/jpeg:https://events.abc17news.com/wp-content/uploads/2024/11/Columbia-Atheists.jpg
ORGANIZER;CN="Columbia Atheists":MAILTO:sokelley53@gmail.com
END:VEVENT
BEGIN:VEVENT
DTSTART;TZID=America/Los_Angeles:20260708T190000
DTEND;TZID=America/Los_Angeles:20260708T210000
DTSTAMP:20260419T050142
CREATED:20241107T211943Z
LAST-MODIFIED:20241107T211943Z
UID:10008170-1783537200-1783544400@events.abc17news.com
SUMMARY:Columbia Atheists Wednesday get togethers!
DESCRIPTION:Join us for stimulating conversation\, sharing ideas\, ordering drinks/food (on your own dime)
URL:https://events.abc17news.com/event/columbia-atheists-wednesday-get-togethers/2026-07-08/
LOCATION:Broadway Brewery\, 816 E Broadway\, Columbia\, MO\, 65201\, United States
CATEGORIES:Community,Education,Food and Drink,Other
ATTACH;FMTTYPE=image/jpeg:https://events.abc17news.com/wp-content/uploads/2024/11/Columbia-Atheists-1.jpg
ORGANIZER;CN="Columbia Atheists":MAILTO:sokelley53@gmail.com
END:VEVENT
BEGIN:VEVENT
DTSTART;TZID=America/Los_Angeles:20260712T100000
DTEND;TZID=America/Los_Angeles:20260712T120000
DTSTAMP:20260419T050142
CREATED:20241107T211942Z
LAST-MODIFIED:20241107T211942Z
UID:10007913-1783850400-1783857600@events.abc17news.com
SUMMARY:Columbia Atheists Sunday Coffee
DESCRIPTION:Join us for coffee and baked goods with good stimulating conversations with like minded people! \nTable in back on right side.
URL:https://events.abc17news.com/event/columbia-atheists-sunday-coffee-2/2026-07-12/
LOCATION:MO
CATEGORIES:Community,Education,Food and Drink
ATTACH;FMTTYPE=image/jpeg:https://events.abc17news.com/wp-content/uploads/2024/11/Columbia-Atheists.jpg
ORGANIZER;CN="Columbia Atheists":MAILTO:sokelley53@gmail.com
END:VEVENT
BEGIN:VEVENT
DTSTART;TZID=America/Los_Angeles:20260715T190000
DTEND;TZID=America/Los_Angeles:20260715T210000
DTSTAMP:20260419T050142
CREATED:20241107T211943Z
LAST-MODIFIED:20241107T211943Z
UID:10008171-1784142000-1784149200@events.abc17news.com
SUMMARY:Columbia Atheists Wednesday get togethers!
DESCRIPTION:Join us for stimulating conversation\, sharing ideas\, ordering drinks/food (on your own dime)
URL:https://events.abc17news.com/event/columbia-atheists-wednesday-get-togethers/2026-07-15/
LOCATION:Broadway Brewery\, 816 E Broadway\, Columbia\, MO\, 65201\, United States
CATEGORIES:Community,Education,Food and Drink,Other
ATTACH;FMTTYPE=image/jpeg:https://events.abc17news.com/wp-content/uploads/2024/11/Columbia-Atheists-1.jpg
ORGANIZER;CN="Columbia Atheists":MAILTO:sokelley53@gmail.com
END:VEVENT
BEGIN:VEVENT
DTSTART;TZID=America/Los_Angeles:20260719T100000
DTEND;TZID=America/Los_Angeles:20260719T120000
DTSTAMP:20260419T050142
CREATED:20241107T211942Z
LAST-MODIFIED:20241107T211942Z
UID:10007914-1784455200-1784462400@events.abc17news.com
SUMMARY:Columbia Atheists Sunday Coffee
DESCRIPTION:Join us for coffee and baked goods with good stimulating conversations with like minded people! \nTable in back on right side.
URL:https://events.abc17news.com/event/columbia-atheists-sunday-coffee-2/2026-07-19/
LOCATION:MO
CATEGORIES:Community,Education,Food and Drink
ATTACH;FMTTYPE=image/jpeg:https://events.abc17news.com/wp-content/uploads/2024/11/Columbia-Atheists.jpg
ORGANIZER;CN="Columbia Atheists":MAILTO:sokelley53@gmail.com
END:VEVENT
BEGIN:VEVENT
DTSTART;TZID=America/Los_Angeles:20260722T190000
DTEND;TZID=America/Los_Angeles:20260722T210000
DTSTAMP:20260419T050142
CREATED:20241107T211943Z
LAST-MODIFIED:20241107T211943Z
UID:10008172-1784746800-1784754000@events.abc17news.com
SUMMARY:Columbia Atheists Wednesday get togethers!
DESCRIPTION:Join us for stimulating conversation\, sharing ideas\, ordering drinks/food (on your own dime)
URL:https://events.abc17news.com/event/columbia-atheists-wednesday-get-togethers/2026-07-22/
LOCATION:Broadway Brewery\, 816 E Broadway\, Columbia\, MO\, 65201\, United States
CATEGORIES:Community,Education,Food and Drink,Other
ATTACH;FMTTYPE=image/jpeg:https://events.abc17news.com/wp-content/uploads/2024/11/Columbia-Atheists-1.jpg
ORGANIZER;CN="Columbia Atheists":MAILTO:sokelley53@gmail.com
END:VEVENT
BEGIN:VEVENT
DTSTART;TZID=America/Los_Angeles:20260726T100000
DTEND;TZID=America/Los_Angeles:20260726T120000
DTSTAMP:20260419T050142
CREATED:20241107T211942Z
LAST-MODIFIED:20241107T211942Z
UID:10007915-1785060000-1785067200@events.abc17news.com
SUMMARY:Columbia Atheists Sunday Coffee
DESCRIPTION:Join us for coffee and baked goods with good stimulating conversations with like minded people! \nTable in back on right side.
URL:https://events.abc17news.com/event/columbia-atheists-sunday-coffee-2/2026-07-26/
LOCATION:MO
CATEGORIES:Community,Education,Food and Drink
ATTACH;FMTTYPE=image/jpeg:https://events.abc17news.com/wp-content/uploads/2024/11/Columbia-Atheists.jpg
ORGANIZER;CN="Columbia Atheists":MAILTO:sokelley53@gmail.com
END:VEVENT
BEGIN:VEVENT
DTSTART;TZID=America/Los_Angeles:20260729T190000
DTEND;TZID=America/Los_Angeles:20260729T210000
DTSTAMP:20260419T050142
CREATED:20241107T211943Z
LAST-MODIFIED:20241107T211943Z
UID:10008173-1785351600-1785358800@events.abc17news.com
SUMMARY:Columbia Atheists Wednesday get togethers!
DESCRIPTION:Join us for stimulating conversation\, sharing ideas\, ordering drinks/food (on your own dime)
URL:https://events.abc17news.com/event/columbia-atheists-wednesday-get-togethers/2026-07-29/
LOCATION:Broadway Brewery\, 816 E Broadway\, Columbia\, MO\, 65201\, United States
CATEGORIES:Community,Education,Food and Drink,Other
ATTACH;FMTTYPE=image/jpeg:https://events.abc17news.com/wp-content/uploads/2024/11/Columbia-Atheists-1.jpg
ORGANIZER;CN="Columbia Atheists":MAILTO:sokelley53@gmail.com
END:VEVENT
BEGIN:VEVENT
DTSTART;TZID=America/Los_Angeles:20260802T100000
DTEND;TZID=America/Los_Angeles:20260802T120000
DTSTAMP:20260419T050142
CREATED:20241107T211942Z
LAST-MODIFIED:20241107T211942Z
UID:10007916-1785664800-1785672000@events.abc17news.com
SUMMARY:Columbia Atheists Sunday Coffee
DESCRIPTION:Join us for coffee and baked goods with good stimulating conversations with like minded people! \nTable in back on right side.
URL:https://events.abc17news.com/event/columbia-atheists-sunday-coffee-2/2026-08-02/
LOCATION:MO
CATEGORIES:Community,Education,Food and Drink
ATTACH;FMTTYPE=image/jpeg:https://events.abc17news.com/wp-content/uploads/2024/11/Columbia-Atheists.jpg
ORGANIZER;CN="Columbia Atheists":MAILTO:sokelley53@gmail.com
END:VEVENT
BEGIN:VEVENT
DTSTART;TZID=America/Los_Angeles:20260805T190000
DTEND;TZID=America/Los_Angeles:20260805T210000
DTSTAMP:20260419T050142
CREATED:20241107T211943Z
LAST-MODIFIED:20241107T211943Z
UID:10008174-1785956400-1785963600@events.abc17news.com
SUMMARY:Columbia Atheists Wednesday get togethers!
DESCRIPTION:Join us for stimulating conversation\, sharing ideas\, ordering drinks/food (on your own dime)
URL:https://events.abc17news.com/event/columbia-atheists-wednesday-get-togethers/2026-08-05/
LOCATION:Broadway Brewery\, 816 E Broadway\, Columbia\, MO\, 65201\, United States
CATEGORIES:Community,Education,Food and Drink,Other
ATTACH;FMTTYPE=image/jpeg:https://events.abc17news.com/wp-content/uploads/2024/11/Columbia-Atheists-1.jpg
ORGANIZER;CN="Columbia Atheists":MAILTO:sokelley53@gmail.com
END:VEVENT
BEGIN:VEVENT
DTSTART;TZID=America/Los_Angeles:20260809T100000
DTEND;TZID=America/Los_Angeles:20260809T120000
DTSTAMP:20260419T050142
CREATED:20241107T211942Z
LAST-MODIFIED:20241107T211942Z
UID:10007917-1786269600-1786276800@events.abc17news.com
SUMMARY:Columbia Atheists Sunday Coffee
DESCRIPTION:Join us for coffee and baked goods with good stimulating conversations with like minded people! \nTable in back on right side.
URL:https://events.abc17news.com/event/columbia-atheists-sunday-coffee-2/2026-08-09/
LOCATION:MO
CATEGORIES:Community,Education,Food and Drink
ATTACH;FMTTYPE=image/jpeg:https://events.abc17news.com/wp-content/uploads/2024/11/Columbia-Atheists.jpg
ORGANIZER;CN="Columbia Atheists":MAILTO:sokelley53@gmail.com
END:VEVENT
BEGIN:VEVENT
DTSTART;TZID=America/Los_Angeles:20260812T190000
DTEND;TZID=America/Los_Angeles:20260812T210000
DTSTAMP:20260419T050142
CREATED:20241107T211943Z
LAST-MODIFIED:20241107T211943Z
UID:10008175-1786561200-1786568400@events.abc17news.com
SUMMARY:Columbia Atheists Wednesday get togethers!
DESCRIPTION:Join us for stimulating conversation\, sharing ideas\, ordering drinks/food (on your own dime)
URL:https://events.abc17news.com/event/columbia-atheists-wednesday-get-togethers/2026-08-12/
LOCATION:Broadway Brewery\, 816 E Broadway\, Columbia\, MO\, 65201\, United States
CATEGORIES:Community,Education,Food and Drink,Other
ATTACH;FMTTYPE=image/jpeg:https://events.abc17news.com/wp-content/uploads/2024/11/Columbia-Atheists-1.jpg
ORGANIZER;CN="Columbia Atheists":MAILTO:sokelley53@gmail.com
END:VEVENT
BEGIN:VEVENT
DTSTART;TZID=America/Los_Angeles:20260816T100000
DTEND;TZID=America/Los_Angeles:20260816T120000
DTSTAMP:20260419T050142
CREATED:20241107T211942Z
LAST-MODIFIED:20241107T211942Z
UID:10007918-1786874400-1786881600@events.abc17news.com
SUMMARY:Columbia Atheists Sunday Coffee
DESCRIPTION:Join us for coffee and baked goods with good stimulating conversations with like minded people! \nTable in back on right side.
URL:https://events.abc17news.com/event/columbia-atheists-sunday-coffee-2/2026-08-16/
LOCATION:MO
CATEGORIES:Community,Education,Food and Drink
ATTACH;FMTTYPE=image/jpeg:https://events.abc17news.com/wp-content/uploads/2024/11/Columbia-Atheists.jpg
ORGANIZER;CN="Columbia Atheists":MAILTO:sokelley53@gmail.com
END:VEVENT
BEGIN:VEVENT
DTSTART;TZID=America/Los_Angeles:20260819T190000
DTEND;TZID=America/Los_Angeles:20260819T210000
DTSTAMP:20260419T050142
CREATED:20241107T211943Z
LAST-MODIFIED:20241107T211943Z
UID:10008176-1787166000-1787173200@events.abc17news.com
SUMMARY:Columbia Atheists Wednesday get togethers!
DESCRIPTION:Join us for stimulating conversation\, sharing ideas\, ordering drinks/food (on your own dime)
URL:https://events.abc17news.com/event/columbia-atheists-wednesday-get-togethers/2026-08-19/
LOCATION:Broadway Brewery\, 816 E Broadway\, Columbia\, MO\, 65201\, United States
CATEGORIES:Community,Education,Food and Drink,Other
ATTACH;FMTTYPE=image/jpeg:https://events.abc17news.com/wp-content/uploads/2024/11/Columbia-Atheists-1.jpg
ORGANIZER;CN="Columbia Atheists":MAILTO:sokelley53@gmail.com
END:VEVENT
BEGIN:VEVENT
DTSTART;TZID=America/Los_Angeles:20260823T100000
DTEND;TZID=America/Los_Angeles:20260823T120000
DTSTAMP:20260419T050142
CREATED:20241107T211942Z
LAST-MODIFIED:20241107T211942Z
UID:10007919-1787479200-1787486400@events.abc17news.com
SUMMARY:Columbia Atheists Sunday Coffee
DESCRIPTION:Join us for coffee and baked goods with good stimulating conversations with like minded people! \nTable in back on right side.
URL:https://events.abc17news.com/event/columbia-atheists-sunday-coffee-2/2026-08-23/
LOCATION:MO
CATEGORIES:Community,Education,Food and Drink
ATTACH;FMTTYPE=image/jpeg:https://events.abc17news.com/wp-content/uploads/2024/11/Columbia-Atheists.jpg
ORGANIZER;CN="Columbia Atheists":MAILTO:sokelley53@gmail.com
END:VEVENT
BEGIN:VEVENT
DTSTART;TZID=America/Los_Angeles:20260826T190000
DTEND;TZID=America/Los_Angeles:20260826T210000
DTSTAMP:20260419T050142
CREATED:20241107T211943Z
LAST-MODIFIED:20241107T211943Z
UID:10008177-1787770800-1787778000@events.abc17news.com
SUMMARY:Columbia Atheists Wednesday get togethers!
DESCRIPTION:Join us for stimulating conversation\, sharing ideas\, ordering drinks/food (on your own dime)
URL:https://events.abc17news.com/event/columbia-atheists-wednesday-get-togethers/2026-08-26/
LOCATION:Broadway Brewery\, 816 E Broadway\, Columbia\, MO\, 65201\, United States
CATEGORIES:Community,Education,Food and Drink,Other
ATTACH;FMTTYPE=image/jpeg:https://events.abc17news.com/wp-content/uploads/2024/11/Columbia-Atheists-1.jpg
ORGANIZER;CN="Columbia Atheists":MAILTO:sokelley53@gmail.com
END:VEVENT
BEGIN:VEVENT
DTSTART;TZID=America/Los_Angeles:20260830T100000
DTEND;TZID=America/Los_Angeles:20260830T120000
DTSTAMP:20260419T050142
CREATED:20241107T211942Z
LAST-MODIFIED:20241107T211942Z
UID:10007920-1788084000-1788091200@events.abc17news.com
SUMMARY:Columbia Atheists Sunday Coffee
DESCRIPTION:Join us for coffee and baked goods with good stimulating conversations with like minded people! \nTable in back on right side.
URL:https://events.abc17news.com/event/columbia-atheists-sunday-coffee-2/2026-08-30/
LOCATION:MO
CATEGORIES:Community,Education,Food and Drink
ATTACH;FMTTYPE=image/jpeg:https://events.abc17news.com/wp-content/uploads/2024/11/Columbia-Atheists.jpg
ORGANIZER;CN="Columbia Atheists":MAILTO:sokelley53@gmail.com
END:VEVENT
BEGIN:VEVENT
DTSTART;TZID=America/Los_Angeles:20260902T190000
DTEND;TZID=America/Los_Angeles:20260902T210000
DTSTAMP:20260419T050142
CREATED:20241107T211943Z
LAST-MODIFIED:20241107T211943Z
UID:10008178-1788375600-1788382800@events.abc17news.com
SUMMARY:Columbia Atheists Wednesday get togethers!
DESCRIPTION:Join us for stimulating conversation\, sharing ideas\, ordering drinks/food (on your own dime)
URL:https://events.abc17news.com/event/columbia-atheists-wednesday-get-togethers/2026-09-02/
LOCATION:Broadway Brewery\, 816 E Broadway\, Columbia\, MO\, 65201\, United States
CATEGORIES:Community,Education,Food and Drink,Other
ATTACH;FMTTYPE=image/jpeg:https://events.abc17news.com/wp-content/uploads/2024/11/Columbia-Atheists-1.jpg
ORGANIZER;CN="Columbia Atheists":MAILTO:sokelley53@gmail.com
END:VEVENT
BEGIN:VEVENT
DTSTART;TZID=America/Los_Angeles:20260906T100000
DTEND;TZID=America/Los_Angeles:20260906T120000
DTSTAMP:20260419T050142
CREATED:20241107T211942Z
LAST-MODIFIED:20241107T211942Z
UID:10007921-1788688800-1788696000@events.abc17news.com
SUMMARY:Columbia Atheists Sunday Coffee
DESCRIPTION:Join us for coffee and baked goods with good stimulating conversations with like minded people! \nTable in back on right side.
URL:https://events.abc17news.com/event/columbia-atheists-sunday-coffee-2/2026-09-06/
LOCATION:MO
CATEGORIES:Community,Education,Food and Drink
ATTACH;FMTTYPE=image/jpeg:https://events.abc17news.com/wp-content/uploads/2024/11/Columbia-Atheists.jpg
ORGANIZER;CN="Columbia Atheists":MAILTO:sokelley53@gmail.com
END:VEVENT
BEGIN:VEVENT
DTSTART;TZID=America/Los_Angeles:20260909T190000
DTEND;TZID=America/Los_Angeles:20260909T210000
DTSTAMP:20260419T050142
CREATED:20241107T211943Z
LAST-MODIFIED:20241107T211943Z
UID:10008179-1788980400-1788987600@events.abc17news.com
SUMMARY:Columbia Atheists Wednesday get togethers!
DESCRIPTION:Join us for stimulating conversation\, sharing ideas\, ordering drinks/food (on your own dime)
URL:https://events.abc17news.com/event/columbia-atheists-wednesday-get-togethers/2026-09-09/
LOCATION:Broadway Brewery\, 816 E Broadway\, Columbia\, MO\, 65201\, United States
CATEGORIES:Community,Education,Food and Drink,Other
ATTACH;FMTTYPE=image/jpeg:https://events.abc17news.com/wp-content/uploads/2024/11/Columbia-Atheists-1.jpg
ORGANIZER;CN="Columbia Atheists":MAILTO:sokelley53@gmail.com
END:VEVENT
BEGIN:VEVENT
DTSTART;TZID=America/Los_Angeles:20260913T100000
DTEND;TZID=America/Los_Angeles:20260913T120000
DTSTAMP:20260419T050142
CREATED:20241107T211942Z
LAST-MODIFIED:20241107T211942Z
UID:10007922-1789293600-1789300800@events.abc17news.com
SUMMARY:Columbia Atheists Sunday Coffee
DESCRIPTION:Join us for coffee and baked goods with good stimulating conversations with like minded people! \nTable in back on right side.
URL:https://events.abc17news.com/event/columbia-atheists-sunday-coffee-2/2026-09-13/
LOCATION:MO
CATEGORIES:Community,Education,Food and Drink
ATTACH;FMTTYPE=image/jpeg:https://events.abc17news.com/wp-content/uploads/2024/11/Columbia-Atheists.jpg
ORGANIZER;CN="Columbia Atheists":MAILTO:sokelley53@gmail.com
END:VEVENT
BEGIN:VEVENT
DTSTART;TZID=America/Los_Angeles:20260916T190000
DTEND;TZID=America/Los_Angeles:20260916T210000
DTSTAMP:20260419T050142
CREATED:20241107T211943Z
LAST-MODIFIED:20241107T211943Z
UID:10008180-1789585200-1789592400@events.abc17news.com
SUMMARY:Columbia Atheists Wednesday get togethers!
DESCRIPTION:Join us for stimulating conversation\, sharing ideas\, ordering drinks/food (on your own dime)
URL:https://events.abc17news.com/event/columbia-atheists-wednesday-get-togethers/2026-09-16/
LOCATION:Broadway Brewery\, 816 E Broadway\, Columbia\, MO\, 65201\, United States
CATEGORIES:Community,Education,Food and Drink,Other
ATTACH;FMTTYPE=image/jpeg:https://events.abc17news.com/wp-content/uploads/2024/11/Columbia-Atheists-1.jpg
ORGANIZER;CN="Columbia Atheists":MAILTO:sokelley53@gmail.com
END:VEVENT
BEGIN:VEVENT
DTSTART;TZID=America/Los_Angeles:20260920T100000
DTEND;TZID=America/Los_Angeles:20260920T120000
DTSTAMP:20260419T050142
CREATED:20241107T211942Z
LAST-MODIFIED:20241107T211942Z
UID:10007923-1789898400-1789905600@events.abc17news.com
SUMMARY:Columbia Atheists Sunday Coffee
DESCRIPTION:Join us for coffee and baked goods with good stimulating conversations with like minded people! \nTable in back on right side.
URL:https://events.abc17news.com/event/columbia-atheists-sunday-coffee-2/2026-09-20/
LOCATION:MO
CATEGORIES:Community,Education,Food and Drink
ATTACH;FMTTYPE=image/jpeg:https://events.abc17news.com/wp-content/uploads/2024/11/Columbia-Atheists.jpg
ORGANIZER;CN="Columbia Atheists":MAILTO:sokelley53@gmail.com
END:VEVENT
BEGIN:VEVENT
DTSTART;TZID=America/Los_Angeles:20260923T190000
DTEND;TZID=America/Los_Angeles:20260923T210000
DTSTAMP:20260419T050142
CREATED:20241107T211943Z
LAST-MODIFIED:20241107T211943Z
UID:10008181-1790190000-1790197200@events.abc17news.com
SUMMARY:Columbia Atheists Wednesday get togethers!
DESCRIPTION:Join us for stimulating conversation\, sharing ideas\, ordering drinks/food (on your own dime)
URL:https://events.abc17news.com/event/columbia-atheists-wednesday-get-togethers/2026-09-23/
LOCATION:Broadway Brewery\, 816 E Broadway\, Columbia\, MO\, 65201\, United States
CATEGORIES:Community,Education,Food and Drink,Other
ATTACH;FMTTYPE=image/jpeg:https://events.abc17news.com/wp-content/uploads/2024/11/Columbia-Atheists-1.jpg
ORGANIZER;CN="Columbia Atheists":MAILTO:sokelley53@gmail.com
END:VEVENT
END:VCALENDAR