BEGIN:VCALENDAR
VERSION:2.0
PRODID:-//ABC 17 NEWS Events - ECPv6.15.20//NONSGML v1.0//EN
CALSCALE:GREGORIAN
METHOD:PUBLISH
X-ORIGINAL-URL:https://events.abc17news.com
X-WR-CALDESC:Events for ABC 17 NEWS Events
REFRESH-INTERVAL;VALUE=DURATION:PT1H
X-Robots-Tag:noindex
X-PUBLISHED-TTL:PT1H
BEGIN:VTIMEZONE
TZID:America/Los_Angeles
BEGIN:DAYLIGHT
TZOFFSETFROM:-0800
TZOFFSETTO:-0700
TZNAME:PDT
DTSTART:20250309T100000
END:DAYLIGHT
BEGIN:STANDARD
TZOFFSETFROM:-0700
TZOFFSETTO:-0800
TZNAME:PST
DTSTART:20251102T090000
END:STANDARD
BEGIN:DAYLIGHT
TZOFFSETFROM:-0800
TZOFFSETTO:-0700
TZNAME:PDT
DTSTART:20260308T100000
END:DAYLIGHT
BEGIN:STANDARD
TZOFFSETFROM:-0700
TZOFFSETTO:-0800
TZNAME:PST
DTSTART:20261101T090000
END:STANDARD
BEGIN:DAYLIGHT
TZOFFSETFROM:-0800
TZOFFSETTO:-0700
TZNAME:PDT
DTSTART:20270314T100000
END:DAYLIGHT
BEGIN:STANDARD
TZOFFSETFROM:-0700
TZOFFSETTO:-0800
TZNAME:PST
DTSTART:20271107T090000
END:STANDARD
END:VTIMEZONE
BEGIN:VEVENT
DTSTART;TZID=America/Los_Angeles:20260422T090000
DTEND;TZID=America/Los_Angeles:20260422T120000
DTSTAMP:20260423T202329
CREATED:20260402T172216Z
LAST-MODIFIED:20260402T172216Z
UID:10015579-1776848400-1776859200@events.abc17news.com
SUMMARY:Community Connection at JCMG
DESCRIPTION:Community Connection at JCMG is a time to connect JCMG with our community. This walk-through event will take place monthly in the JCMG Medical Building’s main lobby. Each month will focus on a different health topic\, with representatives from a respective JCMG clinic present to speak with guests\, hand out literature\, and other activities.\nHealth Topic of the Month:\nFoot & Ankle Care with JCMG Podiatry\n• Meet the JCMG Podiatry Team• Learn about Lapiplasty Bunion Correction• Discover the types of injuries & conditions JCMG Podiatry can treat to keep you moving!
URL:https://events.abc17news.com/event/community-connection-at-jcmg-30/
LOCATION:Jefferson City Medical Group 1241 W Stadium Jefferson City Mo\, 1241 W Stadium Blvd\, Jefferson City\, MO\, 65109\, United States
CATEGORIES:Community
ATTACH;FMTTYPE=image/png:https://events.abc17news.com/wp-content/uploads/2026/03/Community-Connection-Featured-Image-2025-700x500-1.png
ORGANIZER;CN="Jefferson City Medical Group":MAILTO:losmith@jcmg.org
END:VEVENT
BEGIN:VEVENT
DTSTART;TZID=America/Los_Angeles:20260422T170000
DTEND;TZID=America/Los_Angeles:20260422T190000
DTSTAMP:20260423T202329
CREATED:20251002T154457Z
LAST-MODIFIED:20251022T152929Z
UID:10014805-1776877200-1776884400@events.abc17news.com
SUMMARY:Ozark Howler Ghost Walk
DESCRIPTION:Explore Stark Caverns’ hauntingly beautiful cave system where every twist and turn might bring you face to face with the legend that has stalked these hills for centuries: the Ozark Howler\, a bear-sized beast with glowing red eyes and a bone-chilling howl. Inspired by Ozark folklore and Stark Caverns storied history\, you’ll hear spine-tingling tales of eerie sightings\, unexplainable sounds\, and true accounts of those who claim to have spotted the beast in the darkness of night. Stay vigilant as you gather clues throughout the tour — they might just be the key to survival. You and your fellow explorers will work together to uncover the mysteries of the cave and escape the Ozark Howler that lurks within. Don’t miss this limited time spooky tour!
URL:https://events.abc17news.com/event/ozark-howler-ghost-walk/2026-04-22/
LOCATION:Stark Caverns\, 125 Cave Dr.\, Eldon\, MO\, 65026
CATEGORIES:Community,Other,Outdoors
ATTACH;FMTTYPE=image/png:https://events.abc17news.com/wp-content/uploads/2025/09/Howler-Billboard-small.png
END:VEVENT
BEGIN:VEVENT
DTSTART;TZID=America/Los_Angeles:20260422T190000
DTEND;TZID=America/Los_Angeles:20260422T210000
DTSTAMP:20260423T202329
CREATED:20241107T211943Z
LAST-MODIFIED:20241107T211943Z
UID:10008159-1776884400-1776891600@events.abc17news.com
SUMMARY:Columbia Atheists Wednesday get togethers!
DESCRIPTION:Join us for stimulating conversation\, sharing ideas\, ordering drinks/food (on your own dime)
URL:https://events.abc17news.com/event/columbia-atheists-wednesday-get-togethers/2026-04-22/
LOCATION:Broadway Brewery\, 816 E Broadway\, Columbia\, MO\, 65201\, United States
CATEGORIES:Community,Education,Food and Drink,Other
ATTACH;FMTTYPE=image/jpeg:https://events.abc17news.com/wp-content/uploads/2024/11/Columbia-Atheists-1.jpg
ORGANIZER;CN="Columbia Atheists":MAILTO:sokelley53@gmail.com
END:VEVENT
END:VCALENDAR