BEGIN:VCALENDAR
VERSION:2.0
PRODID:-//ABC 17 NEWS Events - ECPv6.15.20//NONSGML v1.0//EN
CALSCALE:GREGORIAN
METHOD:PUBLISH
X-ORIGINAL-URL:https://events.abc17news.com
X-WR-CALDESC:Events for ABC 17 NEWS Events
REFRESH-INTERVAL;VALUE=DURATION:PT1H
X-Robots-Tag:noindex
X-PUBLISHED-TTL:PT1H
BEGIN:VTIMEZONE
TZID:America/Los_Angeles
BEGIN:DAYLIGHT
TZOFFSETFROM:-0800
TZOFFSETTO:-0700
TZNAME:PDT
DTSTART:20220313T100000
END:DAYLIGHT
BEGIN:STANDARD
TZOFFSETFROM:-0700
TZOFFSETTO:-0800
TZNAME:PST
DTSTART:20221106T090000
END:STANDARD
BEGIN:DAYLIGHT
TZOFFSETFROM:-0800
TZOFFSETTO:-0700
TZNAME:PDT
DTSTART:20230312T100000
END:DAYLIGHT
BEGIN:STANDARD
TZOFFSETFROM:-0700
TZOFFSETTO:-0800
TZNAME:PST
DTSTART:20231105T090000
END:STANDARD
BEGIN:DAYLIGHT
TZOFFSETFROM:-0800
TZOFFSETTO:-0700
TZNAME:PDT
DTSTART:20240310T100000
END:DAYLIGHT
BEGIN:STANDARD
TZOFFSETFROM:-0700
TZOFFSETTO:-0800
TZNAME:PST
DTSTART:20241103T090000
END:STANDARD
END:VTIMEZONE
BEGIN:VEVENT
DTSTART;TZID=America/Los_Angeles:20230311T140000
DTEND;TZID=America/Los_Angeles:20230311T170000
DTSTAMP:20260419T062709
CREATED:20230404T161020Z
LAST-MODIFIED:20230404T161020Z
UID:10001175-1678543200-1678554000@events.abc17news.com
SUMMARY:Japanese Stab Binding Workshop
DESCRIPTION:Stab binding is a long and rich tradition. In this workshop\, we will learn basic stab binding and how to create more complex patterns. This technique can be used with any loose piece of paper\, making it both versatile and good for leftover materials from other projects.
URL:https://events.abc17news.com/event/japanese-stab-binding-workshop/
LOCATION:Access Arts\, 2109 Cottle Drive\, Columbia\, 65202
CATEGORIES:Art and Exhibits,Community,Education
ATTACH;FMTTYPE=image/jpeg:https://events.abc17news.com/wp-content/uploads/2023/02/Stab-Binding-Copy.jpg
ORGANIZER;CN="Access Arts":MAILTO:accessarts@schoolofservice.org
END:VEVENT
BEGIN:VEVENT
DTSTART;TZID=America/Los_Angeles:20230311T180000
DTEND;TZID=America/Los_Angeles:20230311T203000
DTSTAMP:20260419T062709
CREATED:20230126T160259Z
LAST-MODIFIED:20230126T160259Z
UID:10001785-1678557600-1678566600@events.abc17news.com
SUMMARY:Trivia Night - Day Dreams Foundation
DESCRIPTION:Come out and support the Day Dreams Foundation’s extracurricular scholarships program! Doors open at 5:00 p.m. and trivia will start at 6:00 p.m. Trivia will consist of rounds of ten questions each with various categories. There will also be a bonus round that individuals can choose to enter. \nTeams are encouraged to dress in a theme and there is a prize in this category! There will also be prizes for the top 2 trivia teams. \nTeams are made up of 8 people and cost $200 ($25/person) for a standard table or $320 for a VIP table.
URL:https://events.abc17news.com/event/trivia-night-day-dreams-foundation/
LOCATION:Fr. Tolton Catholic High School\, 3351 E Gans Rd\, Columbia\, 65201
CATEGORIES:Community,Fundraisers and Galas,Other
ATTACH;FMTTYPE=image/jpeg:https://events.abc17news.com/wp-content/uploads/2023/01/8th-annual-TRIVIA-1024-×-576-px.jpg
ORGANIZER;CN="Day Dreams Foundation":MAILTO:tricia@daydreamsfoundation.org
END:VEVENT
BEGIN:VEVENT
DTSTART;TZID=America/Los_Angeles:20230312T183000
DTEND;TZID=America/Los_Angeles:20230312T203000
DTSTAMP:20260419T062709
CREATED:20230404T161439Z
LAST-MODIFIED:20230404T161439Z
UID:10001832-1678645800-1678653000@events.abc17news.com
SUMMARY:Night of Worship - Freedom Calls
DESCRIPTION:Join us for an exciting night featuring Freedom Calls\, Holly Mestach\, and Tucker Rodkey from Painting Freedom. Invite your friends and family!
URL:https://events.abc17news.com/event/night-of-worship-freedom-calls/
LOCATION:Sunbury Bible Church\, 135 SPRUCE HOLLOW RD\, NORTHUMBERLAND\, PA\, 17857-8766\, United States
CATEGORIES:Community,Music
ATTACH;FMTTYPE=image/png:https://events.abc17news.com/wp-content/uploads/2023/02/Night-of-Wroship.png
END:VEVENT
BEGIN:VEVENT
DTSTART;TZID=America/Los_Angeles:20230318T080000
DTEND;TZID=America/Los_Angeles:20230318T110000
DTSTAMP:20260419T062709
CREATED:20230314T215104Z
LAST-MODIFIED:20230314T215104Z
UID:10001801-1679126400-1679137200@events.abc17news.com
SUMMARY:Free Pancake Breakfast
DESCRIPTION:Grace Evangelical Lutheran Church wants to welcome the community to a free breakfast. We know that everyone loves a hot meal and want to provide that for you and your family. Come enjoy freshly made pancakes\, hot coffee and other breakfast foods at no charge.
URL:https://events.abc17news.com/event/free-pancake-breakfast/2023-03-18/
LOCATION:Grace Evangelical Lutheran Church\, 4545 N Oakland Gravel Rd\, Columbia\, 65202
CATEGORIES:Community,Food and Drink
ATTACH;FMTTYPE=image/jpeg:https://events.abc17news.com/wp-content/uploads/2023/01/pexels-brigitte-tohm-350348-scaled.jpg
ORGANIZER;CN="Grace Evangelical Lutheran Church":MAILTO:gracecomochurch@gmail.com
END:VEVENT
BEGIN:VEVENT
DTSTART;TZID=America/Los_Angeles:20230323T100000
DTEND;TZID=America/Los_Angeles:20230323T160000
DTSTAMP:20260419T062709
CREATED:20230404T161711Z
LAST-MODIFIED:20230404T161711Z
UID:10001193-1679565600-1679587200@events.abc17news.com
SUMMARY:Red Cross Blood Drive at Helias Catholic
DESCRIPTION:Held in Helias Catholic Auxiliary Gym. Enter through blue doors next to Rackers Fieldhouse Lobby.\nHosted by Helias Catholic Student Council. To sign up\, visit www.RedCrossBlood.org and enter HeliasHS to schedule an appointment.
URL:https://events.abc17news.com/event/red-cross-blood-drive-at-helias-catholic/
LOCATION:Helias Catholic High School\, 1305 Swifts Hwy\, Jefferson City\, 65109
CATEGORIES:Community,Health and Wellness
ATTACH;FMTTYPE=image/jpeg:https://events.abc17news.com/wp-content/uploads/2023/03/BloodDriveMarchPoster.jpg
ORGANIZER;CN="Helias Catholic High School":MAILTO:rmartin@heliascatholic.com
END:VEVENT
BEGIN:VEVENT
DTSTART;TZID=America/Los_Angeles:20230324T170000
DTEND;TZID=America/Los_Angeles:20230324T200000
DTSTAMP:20260419T062709
CREATED:20230404T161822Z
LAST-MODIFIED:20230404T161822Z
UID:10001176-1679677200-1679688000@events.abc17news.com
SUMMARY:Workshop: Personalized Jewelry using Stamping
DESCRIPTION:Looking to customize a piece of jewelry or feel the need to get some aggression out? Join us and smash things with a hammer! In this class we will learn how to customize metal charms using stamps and creating texture with hammer and anvil. \n 
URL:https://events.abc17news.com/event/workshop-personalized-jewelry-using-stamping/
LOCATION:Access Arts\, 2109 Cottle Drive\, Columbia\, 65202
CATEGORIES:Art and Exhibits,Community,Education
ATTACH;FMTTYPE=image/jpeg:https://events.abc17news.com/wp-content/uploads/2023/02/Stamping-scaled.jpg
ORGANIZER;CN="Access Arts":MAILTO:accessarts@schoolofservice.org
END:VEVENT
END:VCALENDAR