BEGIN:VCALENDAR
VERSION:2.0
PRODID:-//ABC 17 NEWS Events - ECPv6.15.20//NONSGML v1.0//EN
CALSCALE:GREGORIAN
METHOD:PUBLISH
X-WR-CALNAME:ABC 17 NEWS Events
X-ORIGINAL-URL:https://events.abc17news.com
X-WR-CALDESC:Events for ABC 17 NEWS Events
REFRESH-INTERVAL;VALUE=DURATION:PT1H
X-Robots-Tag:noindex
X-PUBLISHED-TTL:PT1H
BEGIN:VTIMEZONE
TZID:America/Los_Angeles
BEGIN:DAYLIGHT
TZOFFSETFROM:-0800
TZOFFSETTO:-0700
TZNAME:PDT
DTSTART:20230312T100000
END:DAYLIGHT
BEGIN:STANDARD
TZOFFSETFROM:-0700
TZOFFSETTO:-0800
TZNAME:PST
DTSTART:20231105T090000
END:STANDARD
BEGIN:DAYLIGHT
TZOFFSETFROM:-0800
TZOFFSETTO:-0700
TZNAME:PDT
DTSTART:20240310T100000
END:DAYLIGHT
BEGIN:STANDARD
TZOFFSETFROM:-0700
TZOFFSETTO:-0800
TZNAME:PST
DTSTART:20241103T090000
END:STANDARD
BEGIN:DAYLIGHT
TZOFFSETFROM:-0800
TZOFFSETTO:-0700
TZNAME:PDT
DTSTART:20250309T100000
END:DAYLIGHT
BEGIN:STANDARD
TZOFFSETFROM:-0700
TZOFFSETTO:-0800
TZNAME:PST
DTSTART:20251102T090000
END:STANDARD
END:VTIMEZONE
BEGIN:VEVENT
DTSTART;TZID=America/Los_Angeles:20240512T160000
DTEND;TZID=America/Los_Angeles:20240512T180000
DTSTAMP:20260420T024458
CREATED:20240425T213800Z
LAST-MODIFIED:20240425T213800Z
UID:10004822-1715529600-1715536800@events.abc17news.com
SUMMARY:Mother's Day Date Night
DESCRIPTION:Embark on a unique and hands-on adventure at Access Arts’ Mother’s Day Date Night! Join us on Sunday\, May 12th\, 2024 from 4 to 6 pm at our studio in Columbia\, MO. This one-of-a-kind class is perfect for parents/children\, couples\, friends\, or anyone eager to explore ceramics together. \nNo experience is necessary – just bring your smile and a willingness to get a little messy! Each participant will get one piece glazed and fired for free\, and additional pieces can be fired for just $15 each. Craft a mug or planter\, or make something special for each other! \nSpaces are limited\, so reserve your spots now ($70 per couple) at https://schoolofservice.org/date-nights for an unforgettable night of creativity and connection!
URL:https://events.abc17news.com/event/mothers-day-date-night/
LOCATION:Acces Arts – Cottle Studio\, 2109 Cottle Drive\, Columbia\, 65204
CATEGORIES:Art and Exhibits,Education
ATTACH;FMTTYPE=image/jpeg:https://events.abc17news.com/wp-content/uploads/2024/04/mommug-1.jpg
ORGANIZER;CN="Access Arts":MAILTO:accessarts@schoolofservice.org
END:VEVENT
END:VCALENDAR