BEGIN:VCALENDAR
VERSION:2.0
PRODID:-//ABC 17 NEWS Events - ECPv6.15.20//NONSGML v1.0//EN
CALSCALE:GREGORIAN
METHOD:PUBLISH
X-WR-CALNAME:ABC 17 NEWS Events
X-ORIGINAL-URL:https://events.abc17news.com
X-WR-CALDESC:Events for ABC 17 NEWS Events
REFRESH-INTERVAL;VALUE=DURATION:PT1H
X-Robots-Tag:noindex
X-PUBLISHED-TTL:PT1H
BEGIN:VTIMEZONE
TZID:America/Los_Angeles
BEGIN:DAYLIGHT
TZOFFSETFROM:-0800
TZOFFSETTO:-0700
TZNAME:PDT
DTSTART:20250309T100000
END:DAYLIGHT
BEGIN:STANDARD
TZOFFSETFROM:-0700
TZOFFSETTO:-0800
TZNAME:PST
DTSTART:20251102T090000
END:STANDARD
BEGIN:DAYLIGHT
TZOFFSETFROM:-0800
TZOFFSETTO:-0700
TZNAME:PDT
DTSTART:20260308T100000
END:DAYLIGHT
BEGIN:STANDARD
TZOFFSETFROM:-0700
TZOFFSETTO:-0800
TZNAME:PST
DTSTART:20261101T090000
END:STANDARD
BEGIN:DAYLIGHT
TZOFFSETFROM:-0800
TZOFFSETTO:-0700
TZNAME:PDT
DTSTART:20270314T100000
END:DAYLIGHT
BEGIN:STANDARD
TZOFFSETFROM:-0700
TZOFFSETTO:-0800
TZNAME:PST
DTSTART:20271107T090000
END:STANDARD
END:VTIMEZONE
BEGIN:VEVENT
DTSTART;TZID=America/Los_Angeles:20260305T120000
DTEND;TZID=America/Los_Angeles:20260430T230000
DTSTAMP:20260421T125552
CREATED:20251007T180614Z
LAST-MODIFIED:20251007T180614Z
UID:10014468-1772712000-1777590000@events.abc17news.com
SUMMARY:Integrative Behavioral Health Clinic
DESCRIPTION:Integrative Behavioral Health Clinic is free therapy services for the uninsured and underinsured members of our community. Every Thursday while MU is in session\, IBHC provides 1:1 counseling and couples therapy at MU Family Impact Center 105 E. Ash ST\, Second Floor\, Columbia MO 65203 from Noon to 9pm. For more information the Clinic Manager can be reached at ibhc@health.missouri.edu or call 573-882-9871.
URL:https://events.abc17news.com/event/integrative-behavioral-health-clinic/2026-03-05/
LOCATION:105 E Ash St. Columbia Mo\, 65203\, 105 E. Ash ST\, Second Floor\, Columbia\, MO\, 65203\, United States
CATEGORIES:Health and Wellness
ATTACH;FMTTYPE=image/jpeg:https://events.abc17news.com/wp-content/uploads/2025/10/IBHC-1.jpg
ORGANIZER;CN="MU Family Impact Center":MAILTO:mufamilyimpact@missouri.edu
END:VEVENT
BEGIN:VEVENT
DTSTART;TZID=America/Los_Angeles:20260319T120000
DTEND;TZID=America/Los_Angeles:20260514T220000
DTSTAMP:20260421T125552
CREATED:20251007T180614Z
LAST-MODIFIED:20251007T180614Z
UID:10014470-1773921600-1778796000@events.abc17news.com
SUMMARY:Integrative Behavioral Health Clinic
DESCRIPTION:Integrative Behavioral Health Clinic is free therapy services for the uninsured and underinsured members of our community. Every Thursday while MU is in session\, IBHC provides 1:1 counseling and couples therapy at MU Family Impact Center 105 E. Ash ST\, Second Floor\, Columbia MO 65203 from Noon to 9pm. For more information the Clinic Manager can be reached at ibhc@health.missouri.edu or call 573-882-9871.
URL:https://events.abc17news.com/event/integrative-behavioral-health-clinic/2026-03-19/
LOCATION:105 E Ash St. Columbia Mo\, 65203\, 105 E. Ash ST\, Second Floor\, Columbia\, MO\, 65203\, United States
CATEGORIES:Health and Wellness
ATTACH;FMTTYPE=image/jpeg:https://events.abc17news.com/wp-content/uploads/2025/10/IBHC-1.jpg
ORGANIZER;CN="MU Family Impact Center":MAILTO:mufamilyimpact@missouri.edu
END:VEVENT
BEGIN:VEVENT
DTSTART;TZID=America/Los_Angeles:20260326T120000
DTEND;TZID=America/Los_Angeles:20260521T220000
DTSTAMP:20260421T125552
CREATED:20251007T180614Z
LAST-MODIFIED:20251007T180614Z
UID:10014471-1774526400-1779400800@events.abc17news.com
SUMMARY:Integrative Behavioral Health Clinic
DESCRIPTION:Integrative Behavioral Health Clinic is free therapy services for the uninsured and underinsured members of our community. Every Thursday while MU is in session\, IBHC provides 1:1 counseling and couples therapy at MU Family Impact Center 105 E. Ash ST\, Second Floor\, Columbia MO 65203 from Noon to 9pm. For more information the Clinic Manager can be reached at ibhc@health.missouri.edu or call 573-882-9871.
URL:https://events.abc17news.com/event/integrative-behavioral-health-clinic/2026-03-26/
LOCATION:105 E Ash St. Columbia Mo\, 65203\, 105 E. Ash ST\, Second Floor\, Columbia\, MO\, 65203\, United States
CATEGORIES:Health and Wellness
ATTACH;FMTTYPE=image/jpeg:https://events.abc17news.com/wp-content/uploads/2025/10/IBHC-1.jpg
ORGANIZER;CN="MU Family Impact Center":MAILTO:mufamilyimpact@missouri.edu
END:VEVENT
BEGIN:VEVENT
DTSTART;TZID=America/Los_Angeles:20260402T120000
DTEND;TZID=America/Los_Angeles:20260528T220000
DTSTAMP:20260421T125552
CREATED:20251007T180614Z
LAST-MODIFIED:20251007T180614Z
UID:10014472-1775131200-1780005600@events.abc17news.com
SUMMARY:Integrative Behavioral Health Clinic
DESCRIPTION:Integrative Behavioral Health Clinic is free therapy services for the uninsured and underinsured members of our community. Every Thursday while MU is in session\, IBHC provides 1:1 counseling and couples therapy at MU Family Impact Center 105 E. Ash ST\, Second Floor\, Columbia MO 65203 from Noon to 9pm. For more information the Clinic Manager can be reached at ibhc@health.missouri.edu or call 573-882-9871.
URL:https://events.abc17news.com/event/integrative-behavioral-health-clinic/2026-04-02/
LOCATION:105 E Ash St. Columbia Mo\, 65203\, 105 E. Ash ST\, Second Floor\, Columbia\, MO\, 65203\, United States
CATEGORIES:Health and Wellness
ATTACH;FMTTYPE=image/jpeg:https://events.abc17news.com/wp-content/uploads/2025/10/IBHC-1.jpg
ORGANIZER;CN="MU Family Impact Center":MAILTO:mufamilyimpact@missouri.edu
END:VEVENT
BEGIN:VEVENT
DTSTART;TZID=America/Los_Angeles:20260409T120000
DTEND;TZID=America/Los_Angeles:20260604T220000
DTSTAMP:20260421T125552
CREATED:20251007T180614Z
LAST-MODIFIED:20251007T180614Z
UID:10014473-1775736000-1780610400@events.abc17news.com
SUMMARY:Integrative Behavioral Health Clinic
DESCRIPTION:Integrative Behavioral Health Clinic is free therapy services for the uninsured and underinsured members of our community. Every Thursday while MU is in session\, IBHC provides 1:1 counseling and couples therapy at MU Family Impact Center 105 E. Ash ST\, Second Floor\, Columbia MO 65203 from Noon to 9pm. For more information the Clinic Manager can be reached at ibhc@health.missouri.edu or call 573-882-9871.
URL:https://events.abc17news.com/event/integrative-behavioral-health-clinic/2026-04-09/
LOCATION:105 E Ash St. Columbia Mo\, 65203\, 105 E. Ash ST\, Second Floor\, Columbia\, MO\, 65203\, United States
CATEGORIES:Health and Wellness
ATTACH;FMTTYPE=image/jpeg:https://events.abc17news.com/wp-content/uploads/2025/10/IBHC-1.jpg
ORGANIZER;CN="MU Family Impact Center":MAILTO:mufamilyimpact@missouri.edu
END:VEVENT
BEGIN:VEVENT
DTSTART;TZID=America/Los_Angeles:20260416T120000
DTEND;TZID=America/Los_Angeles:20260611T220000
DTSTAMP:20260421T125552
CREATED:20251007T180614Z
LAST-MODIFIED:20251007T180614Z
UID:10014474-1776340800-1781215200@events.abc17news.com
SUMMARY:Integrative Behavioral Health Clinic
DESCRIPTION:Integrative Behavioral Health Clinic is free therapy services for the uninsured and underinsured members of our community. Every Thursday while MU is in session\, IBHC provides 1:1 counseling and couples therapy at MU Family Impact Center 105 E. Ash ST\, Second Floor\, Columbia MO 65203 from Noon to 9pm. For more information the Clinic Manager can be reached at ibhc@health.missouri.edu or call 573-882-9871.
URL:https://events.abc17news.com/event/integrative-behavioral-health-clinic/2026-04-16/
LOCATION:105 E Ash St. Columbia Mo\, 65203\, 105 E. Ash ST\, Second Floor\, Columbia\, MO\, 65203\, United States
CATEGORIES:Health and Wellness
ATTACH;FMTTYPE=image/jpeg:https://events.abc17news.com/wp-content/uploads/2025/10/IBHC-1.jpg
ORGANIZER;CN="MU Family Impact Center":MAILTO:mufamilyimpact@missouri.edu
END:VEVENT
BEGIN:VEVENT
DTSTART;TZID=America/Los_Angeles:20260418T080000
DTEND;TZID=America/Los_Angeles:20260418T120000
DTSTAMP:20260421T125552
CREATED:20260316T204442Z
LAST-MODIFIED:20260316T204442Z
UID:10015521-1776499200-1776513600@events.abc17news.com
SUMMARY:Columbia Farmers Market
DESCRIPTION:Savor the flavors of mid-Missouri at the esteemed Columbia Farmers Market\, renowned as one of the nation’s premier farmers markets! Join us every Saturday under the MU Health Care Pavilion at Columbia’s Agriculture Park from 8:00 a.m. to noon (April-October) and 9:00 a.m. to noon (November-March). Additionally\, indulge in the abundance of local goodness during peak season on Wednesdays from 4:00-7:00 p.m. (May 27th-Aug. 26th) at Columbia’s Agriculture Park. \nDiscover a diverse array of fresh produce\, meats\, farm-fresh eggs\, artisan cheeses\, honey\, vibrant cut flowers\, plants\, and various artisanal items. As a producer-only market\, every product at CFM is grown\, raised\, or made by dedicated farmers and artisans who contribute to the sustenance of our region. We accept SNAP payments and provide matching benefits at all markets.  Come rain or shine\, we’re here to offer you the best of mid-Missouri! columbiafarmersmarket.org 573-823-6889
URL:https://events.abc17news.com/event/columbia-farmers-market-32/2026-04-18/
LOCATION:MU Health Care Pavilion at Columbia’s Agriculture Park\, 1769 W. Ash\, Columbia\, MO\, 65203
CATEGORIES:Community,Food and Drink,Health and Wellness,Music,Other,Outdoors,Shopping
ATTACH;FMTTYPE=image/jpeg:https://events.abc17news.com/wp-content/uploads/2026/03/CommunityCalendarSign-scaled.jpeg
ORGANIZER;CN="Columbia Farmers Market":MAILTO:info@columbiafarmersmarket.org
END:VEVENT
BEGIN:VEVENT
DTSTART;TZID=America/Los_Angeles:20260418T090000
DTEND;TZID=America/Los_Angeles:20260418T110000
DTSTAMP:20260421T125552
CREATED:20260415T145036Z
LAST-MODIFIED:20260415T145036Z
UID:10015587-1776502800-1776510000@events.abc17news.com
SUMMARY:Lincoln University Farmers Market
DESCRIPTION:Lincoln University Farmers Market has a variety of vendors that sell food\, fresh meat and eggs\, baked goods\, plants and flowers\, crafts and so much more!
URL:https://events.abc17news.com/event/lincoln-university-farmers-market/
LOCATION:1219 Chestnut Street\, Jefferson City MO\, 1219 Chestnut Street\, Jefferson City\, 65101
ATTACH;FMTTYPE=image/png:https://events.abc17news.com/wp-content/uploads/2026/04/winter-FM-2025-2026.png
ORGANIZER;CN="Lincoln University of Missouri":MAILTO:communications@lincolnu.edu
END:VEVENT
BEGIN:VEVENT
DTSTART;TZID=America/Los_Angeles:20260418T093000
DTEND;TZID=America/Los_Angeles:20260418T120000
DTSTAMP:20260421T125552
CREATED:20260211T193818Z
LAST-MODIFIED:20260211T193818Z
UID:10015433-1776504600-1776513600@events.abc17news.com
SUMMARY:Landmarks Downtown St. Louis Walking Tours
DESCRIPTION:Landmarks Downtown St. Louis Walking Tours:  History\, Culture\, Architecture and Exercise: What could be better on a Saturday morning? \nExplore the fascinating history\, culture and architectural legacy of Downtown St. Louis from the City’s founding through its current development. We offer tours every Saturday starting at 9:30 AM\, April 4 through October 31. \nTours are limited to 15 people and cover about two miles at a leisurely pace. Tickets are $20 (children under 12 are free). Purchase tickets at Landmarks-STL.org \nEAST TOUR: Explore the architectural legacy of the heart of the city. From the bustling riverfront of the French American entrepreneurs to the skyscrapers of the 20th century\, you’ll find famous architectural and engineering marvels\, including these highlights: Old Courthouse | Old Cathedral | Eads Bridge | Gateway Arch | Old Post Office | Wainwright Building \nWEST TOUR: St. Louis’ grandest public buildings are a testament to the City’s ambitions during the late 19th and early 20th centuries. Explore their history\, architectural significance and how they changed the area from blighted to monumental\, including these highlights: Union Station | Stifel Theatre | Central Library | City Hall | Campbell House | Soldiers Memorial Military Museum
URL:https://events.abc17news.com/event/landmarks-downtown-st-louis-walking-tours-2/2026-04-18/
LOCATION:Downtown St. Louis\, Downtown St. Louis\, St. Louis\, MO\, 63102\, United States
CATEGORIES:Outdoors
ATTACH;FMTTYPE=image/jpeg:https://events.abc17news.com/wp-content/uploads/2026/02/Old-PostOffice.jpg
ORGANIZER;CN="Landmarks Association of St. Louis":MAILTO:marketing@landmarks-stl.org
END:VEVENT
BEGIN:VEVENT
DTSTART;TZID=America/Los_Angeles:20260418T103000
DTEND;TZID=America/Los_Angeles:20260418T120000
DTSTAMP:20260421T125552
CREATED:20260402T172526Z
LAST-MODIFIED:20260402T172526Z
UID:10015573-1776508200-1776513600@events.abc17news.com
SUMMARY:2026 Reveal the Teal Scholarship Brunch
DESCRIPTION:Get ready to make a difference at the 2026 Reveal the Teal Scholarship Brunch\, RISE UP Foundation’s annual fundraising event\, where your support will empower youth education initiatives and scholarships! \n  \nPut on your favorite teal attire and join us for a delightful morning filled with scrumptious food\, refreshing drinks\, and captivating entertainment. Savor a gourmet spread while mingling with fellow supporters\, and don’t miss the chance to participate in our exciting silent auctions\, featuring unique items that will spark your interest. \n  \nOur featured speaker this year is Michelle Struemph\, award-winning author\, retired military leader\, and survivor-advocate whose work centers on consent\, healing\, and empowering young voices. As the author of ‘Living with Trauma\, Finding the Light Again\,’ she speaks with honesty and hope about prevention\, resilience\, and creating communities where every individual is seen\, believed\, and safe. \n  \nAlso joining us is the talented musician\, Sarah Parker. Her music will set the mood for the morning just right. \n  \nDoors Open: 9:30 AM \nProgram Begins: 10:30 AM \n  \nYour attendance is crucial in helping us provide essential resources and opportunities for youth in our community.  Together\, let’s create a safe\, brighter future for our community.  We can’t wait to see you there. \n  \nRISE UP Foundation
URL:https://events.abc17news.com/event/2026-reveal-the-teal-scholarship-brunch/
LOCATION:Captial Ritz Banquet Center\, 2716 Plaza Dr\, Jefferson City\, MO\, 65109\, United States
CATEGORIES:Community,Education,Food and Drink,Fundraisers and Galas,Music
ATTACH;FMTTYPE=image/png:https://events.abc17news.com/wp-content/uploads/2026/03/RTT.png
ORGANIZER;CN="RISE UP Foundation":MAILTO:raylene@riseupfoundation.net
END:VEVENT
BEGIN:VEVENT
DTSTART;TZID=America/Los_Angeles:20260418T163000
DTEND;TZID=America/Los_Angeles:20260418T183000
DTSTAMP:20260421T125552
CREATED:20240717T133557Z
LAST-MODIFIED:20240717T133557Z
UID:10006110-1776529800-1776537000@events.abc17news.com
SUMMARY:Christmas In July Fundraiser
DESCRIPTION:Callaway Senior Center Will Host Dinner to help raise money for our food program We will have a big Christmas meal. Our Menu will be Turkey or Ham mashed potato gravy stuffing. home maid noodles green beans\, Cole Slaw assorted pies and cakes coffee tea lemon aide. $12 adults $6 Children 4:30 -6:30 pm Take out available. Hambo Latham will be providing music while you eat. Come see what we have to offer.  Our menu changes monthly you can check our face book page for our information
URL:https://events.abc17news.com/event/christmas-in-july-fundraiser/2026-04-18/
CATEGORIES:Community
END:VEVENT
BEGIN:VEVENT
DTSTART;TZID=America/Los_Angeles:20260418T170000
DTEND;TZID=America/Los_Angeles:20260418T190000
DTSTAMP:20260421T125552
CREATED:20251002T154457Z
LAST-MODIFIED:20251022T152929Z
UID:10014358-1776531600-1776538800@events.abc17news.com
SUMMARY:Ozark Howler Ghost Walk
DESCRIPTION:Explore Stark Caverns’ hauntingly beautiful cave system where every twist and turn might bring you face to face with the legend that has stalked these hills for centuries: the Ozark Howler\, a bear-sized beast with glowing red eyes and a bone-chilling howl. Inspired by Ozark folklore and Stark Caverns storied history\, you’ll hear spine-tingling tales of eerie sightings\, unexplainable sounds\, and true accounts of those who claim to have spotted the beast in the darkness of night. Stay vigilant as you gather clues throughout the tour — they might just be the key to survival. You and your fellow explorers will work together to uncover the mysteries of the cave and escape the Ozark Howler that lurks within. Don’t miss this limited time spooky tour!
URL:https://events.abc17news.com/event/ozark-howler-ghost-walk/2026-04-18/
LOCATION:Stark Caverns\, 125 Cave Dr.\, Eldon\, MO\, 65026
CATEGORIES:Community,Other,Outdoors
ATTACH;FMTTYPE=image/png:https://events.abc17news.com/wp-content/uploads/2025/09/Howler-Billboard-small.png
END:VEVENT
END:VCALENDAR